BEGIN:VCALENDAR
VERSION:2.0
PRODID:-//Random Lake Rod &amp; Gun Club - ECPv6.15.9//NONSGML v1.0//EN
CALSCALE:GREGORIAN
METHOD:PUBLISH
X-ORIGINAL-URL:https://rlrgc.com
X-WR-CALDESC:Events for Random Lake Rod &amp; Gun Club
REFRESH-INTERVAL;VALUE=DURATION:PT1H
X-Robots-Tag:noindex
X-PUBLISHED-TTL:PT1H
BEGIN:VTIMEZONE
TZID:America/Chicago
BEGIN:DAYLIGHT
TZOFFSETFROM:-0600
TZOFFSETTO:-0500
TZNAME:CDT
DTSTART:20190310T080000
END:DAYLIGHT
BEGIN:STANDARD
TZOFFSETFROM:-0500
TZOFFSETTO:-0600
TZNAME:CST
DTSTART:20191103T070000
END:STANDARD
BEGIN:DAYLIGHT
TZOFFSETFROM:-0600
TZOFFSETTO:-0500
TZNAME:CDT
DTSTART:20200308T080000
END:DAYLIGHT
BEGIN:STANDARD
TZOFFSETFROM:-0500
TZOFFSETTO:-0600
TZNAME:CST
DTSTART:20201101T070000
END:STANDARD
BEGIN:DAYLIGHT
TZOFFSETFROM:-0600
TZOFFSETTO:-0500
TZNAME:CDT
DTSTART:20210314T080000
END:DAYLIGHT
BEGIN:STANDARD
TZOFFSETFROM:-0500
TZOFFSETTO:-0600
TZNAME:CST
DTSTART:20211107T070000
END:STANDARD
END:VTIMEZONE
BEGIN:VEVENT
DTSTART;TZID=America/Chicago:20200125T100000
DTEND;TZID=America/Chicago:20200125T130000
DTSTAMP:20260421T025958
CREATED:20190328T135512Z
LAST-MODIFIED:20190328T135512Z
UID:275-1579946400-1579957200@rlrgc.com
SUMMARY:Rabbit Hunt
DESCRIPTION:Registration: Due January 18\, 2020. \n***On January 25\, 2020\, the club opens at 10:00am and entries must be submitted by 1:00pm.
URL:https://rlrgc.com/calendar/rabbit-hunt/
END:VEVENT
END:VCALENDAR