BEGIN:VCALENDAR
VERSION:2.0
PRODID:-//Random Lake Rod &amp; Gun Club - ECPv6.15.9//NONSGML v1.0//EN
CALSCALE:GREGORIAN
METHOD:PUBLISH
X-ORIGINAL-URL:https://rlrgc.com
X-WR-CALDESC:Events for Random Lake Rod &amp; Gun Club
REFRESH-INTERVAL;VALUE=DURATION:PT1H
X-Robots-Tag:noindex
X-PUBLISHED-TTL:PT1H
BEGIN:VTIMEZONE
TZID:America/Chicago
BEGIN:DAYLIGHT
TZOFFSETFROM:-0600
TZOFFSETTO:-0500
TZNAME:CDT
DTSTART:20190310T080000
END:DAYLIGHT
BEGIN:STANDARD
TZOFFSETFROM:-0500
TZOFFSETTO:-0600
TZNAME:CST
DTSTART:20191103T070000
END:STANDARD
BEGIN:DAYLIGHT
TZOFFSETFROM:-0600
TZOFFSETTO:-0500
TZNAME:CDT
DTSTART:20200308T080000
END:DAYLIGHT
BEGIN:STANDARD
TZOFFSETFROM:-0500
TZOFFSETTO:-0600
TZNAME:CST
DTSTART:20201101T070000
END:STANDARD
BEGIN:DAYLIGHT
TZOFFSETFROM:-0600
TZOFFSETTO:-0500
TZNAME:CDT
DTSTART:20210314T080000
END:DAYLIGHT
BEGIN:STANDARD
TZOFFSETFROM:-0500
TZOFFSETTO:-0600
TZNAME:CST
DTSTART:20211107T070000
END:STANDARD
END:VTIMEZONE
BEGIN:VEVENT
DTSTART;TZID=America/Chicago:20200616T173000
DTEND;TZID=America/Chicago:20200616T210000
DTSTAMP:20260420T192350
CREATED:20200601T222951Z
LAST-MODIFIED:20200601T223131Z
UID:4317-1592328600-1592341200@rlrgc.com
SUMMARY:Ladies Basic Pistol Class June 16 & June 23
DESCRIPTION:Ladies Basic Pistol Class.  June 16 and June 23.  5:30 pm -9:00 pm \nContact Renie 920-254-3119 or Starla 920-747-0288 \nHere is the link to reserve you spot now: https://www.nrainstructors.org/CourseDetails.aspx?Courseid=577908&seats=15&State=n&zip=53004&radius=100.1&id=56&bsa&youth&women=Y — with Renie Raymond Rathke. \n  \n  \n 
URL:https://rlrgc.com/calendar/ladies-basic-pistol-class-june-16-june-23/
END:VEVENT
END:VCALENDAR