BEGIN:VCALENDAR
VERSION:2.0
PRODID:-//Random Lake Rod &amp; Gun Club - ECPv6.15.9//NONSGML v1.0//EN
CALSCALE:GREGORIAN
METHOD:PUBLISH
X-WR-CALNAME:Random Lake Rod &amp; Gun Club
X-ORIGINAL-URL:https://rlrgc.com
X-WR-CALDESC:Events for Random Lake Rod &amp; Gun Club
REFRESH-INTERVAL;VALUE=DURATION:PT1H
X-Robots-Tag:noindex
X-PUBLISHED-TTL:PT1H
BEGIN:VTIMEZONE
TZID:America/Chicago
BEGIN:DAYLIGHT
TZOFFSETFROM:-0600
TZOFFSETTO:-0500
TZNAME:CDT
DTSTART:20200308T080000
END:DAYLIGHT
BEGIN:STANDARD
TZOFFSETFROM:-0500
TZOFFSETTO:-0600
TZNAME:CST
DTSTART:20201101T070000
END:STANDARD
BEGIN:DAYLIGHT
TZOFFSETFROM:-0600
TZOFFSETTO:-0500
TZNAME:CDT
DTSTART:20210314T080000
END:DAYLIGHT
BEGIN:STANDARD
TZOFFSETFROM:-0500
TZOFFSETTO:-0600
TZNAME:CST
DTSTART:20211107T070000
END:STANDARD
BEGIN:DAYLIGHT
TZOFFSETFROM:-0600
TZOFFSETTO:-0500
TZNAME:CDT
DTSTART:20220313T080000
END:DAYLIGHT
BEGIN:STANDARD
TZOFFSETFROM:-0500
TZOFFSETTO:-0600
TZNAME:CST
DTSTART:20221106T070000
END:STANDARD
END:VTIMEZONE
BEGIN:VEVENT
DTSTART;TZID=America/Chicago:20210320T100000
DTEND;TZID=America/Chicago:20210320T180000
DTSTAMP:20260420T064220
CREATED:20210124T165541Z
LAST-MODIFIED:20210124T165541Z
UID:4706-1616234400-1616263200@rlrgc.com
SUMMARY:11th Annual Deer Classic - March 20\, 2021
DESCRIPTION:11th Annual Deer Classic – March 20\, 2021.  10:00am – 6:00pm \nHelp raise money to grant outdoor adventures to children and veterans. \nAdmission: $5 or bring a non-perishable food item for free admission. \nPrizes: Polaris UTV. Rifles. Pistols. Shotguns. Gun safe. Hunting and Fishing Equipment. \nBoone and Crocket scoring.
URL:https://rlrgc.com/calendar/11th-annual-deer-classic-march-20-2021/
END:VEVENT
END:VCALENDAR