BEGIN:VCALENDAR
VERSION:2.0
PRODID:-//Random Lake Rod &amp; Gun Club - ECPv6.15.9//NONSGML v1.0//EN
CALSCALE:GREGORIAN
METHOD:PUBLISH
X-WR-CALNAME:Random Lake Rod &amp; Gun Club
X-ORIGINAL-URL:https://rlrgc.com
X-WR-CALDESC:Events for Random Lake Rod &amp; Gun Club
REFRESH-INTERVAL;VALUE=DURATION:PT1H
X-Robots-Tag:noindex
X-PUBLISHED-TTL:PT1H
BEGIN:VTIMEZONE
TZID:America/Chicago
BEGIN:DAYLIGHT
TZOFFSETFROM:-0600
TZOFFSETTO:-0500
TZNAME:CDT
DTSTART:20200308T080000
END:DAYLIGHT
BEGIN:STANDARD
TZOFFSETFROM:-0500
TZOFFSETTO:-0600
TZNAME:CST
DTSTART:20201101T070000
END:STANDARD
BEGIN:DAYLIGHT
TZOFFSETFROM:-0600
TZOFFSETTO:-0500
TZNAME:CDT
DTSTART:20210314T080000
END:DAYLIGHT
BEGIN:STANDARD
TZOFFSETFROM:-0500
TZOFFSETTO:-0600
TZNAME:CST
DTSTART:20211107T070000
END:STANDARD
BEGIN:DAYLIGHT
TZOFFSETFROM:-0600
TZOFFSETTO:-0500
TZNAME:CDT
DTSTART:20220313T080000
END:DAYLIGHT
BEGIN:STANDARD
TZOFFSETFROM:-0500
TZOFFSETTO:-0600
TZNAME:CST
DTSTART:20221106T070000
END:STANDARD
END:VTIMEZONE
BEGIN:VEVENT
DTSTART;TZID=America/Chicago:20210603T080000
DTEND;TZID=America/Chicago:20210603T170000
DTSTAMP:20260420T023805
CREATED:20210316T015500Z
LAST-MODIFIED:20210316T020845Z
UID:4829-1622707200-1622739600@rlrgc.com
SUMMARY:Trap
DESCRIPTION:Trap
URL:https://rlrgc.com/calendar/trap-wk1-2/
END:VEVENT
BEGIN:VEVENT
DTSTART;TZID=America/Chicago:20210603T170000
DTEND;TZID=America/Chicago:20210603T220000
DTSTAMP:20260420T023805
CREATED:20210425T172151Z
LAST-MODIFIED:20210430T011739Z
UID:4906-1622739600-1622757600@rlrgc.com
SUMMARY:Thursday Summer Trap League Starts
DESCRIPTION:Important Dates \n\nJune 3rd (League starts)\nAugust 19th (League ends)\nAugust 26th (Bust-up Party)\n\nLeague Rules \n\nTwelve-week season (200 at 16 yards\, 200 Handicap\, 200 at 16 yards)\nFirst 200 16 yard targets MUST be shot by June 24th. Any missing scores will be added using your average minus 4 birds.\nThe Season could be cut shortened if there is a shortage of shells.\n\nBoxes of shells will cost $10.00\n\n\nThis is a Thursday night league. Make-up & Shooting ahead will be shot during the normal league nights. (No open shooting this season)\nAll targets MUST be shot by the last night of league (August 19th)\nThe Trap fields will open at 5 p.m. and stay open until 10 p.m. The last Team must be started prior to 9:45 p.m.\nThere are no designated shooting times.\nShooting ahead and make-ups are allowed.\nTeam Captains\, The Team sponsor fee is ($25.00) and Individual Pre-pay fee is ($100.00) Save $20.00 and receive a card to be marked off weekly. Cards MUST be paid for by 6/10/19\n\nAny questions\, or concerns contact Jeff Bares (262) 424-4859
URL:https://rlrgc.com/calendar/thursday-summer-trap-league/
END:VEVENT
END:VCALENDAR