BEGIN:VCALENDAR
VERSION:2.0
PRODID:-//Random Lake Rod &amp; Gun Club - ECPv6.15.9//NONSGML v1.0//EN
CALSCALE:GREGORIAN
METHOD:PUBLISH
X-WR-CALNAME:Random Lake Rod &amp; Gun Club
X-ORIGINAL-URL:https://rlrgc.com
X-WR-CALDESC:Events for Random Lake Rod &amp; Gun Club
REFRESH-INTERVAL;VALUE=DURATION:PT1H
X-Robots-Tag:noindex
X-PUBLISHED-TTL:PT1H
BEGIN:VTIMEZONE
TZID:America/Chicago
BEGIN:DAYLIGHT
TZOFFSETFROM:-0600
TZOFFSETTO:-0500
TZNAME:CDT
DTSTART:20210314T080000
END:DAYLIGHT
BEGIN:STANDARD
TZOFFSETFROM:-0500
TZOFFSETTO:-0600
TZNAME:CST
DTSTART:20211107T070000
END:STANDARD
BEGIN:DAYLIGHT
TZOFFSETFROM:-0600
TZOFFSETTO:-0500
TZNAME:CDT
DTSTART:20220313T080000
END:DAYLIGHT
BEGIN:STANDARD
TZOFFSETFROM:-0500
TZOFFSETTO:-0600
TZNAME:CST
DTSTART:20221106T070000
END:STANDARD
BEGIN:DAYLIGHT
TZOFFSETFROM:-0600
TZOFFSETTO:-0500
TZNAME:CDT
DTSTART:20230312T080000
END:DAYLIGHT
BEGIN:STANDARD
TZOFFSETFROM:-0500
TZOFFSETTO:-0600
TZNAME:CST
DTSTART:20231105T070000
END:STANDARD
END:VTIMEZONE
BEGIN:VEVENT
DTSTART;VALUE=DATE:20220130
DTEND;VALUE=DATE:20220131
DTSTAMP:20260419T150807
CREATED:20211026T130312Z
LAST-MODIFIED:20211026T130312Z
UID:5122-1643500800-1643587199@rlrgc.com
SUMMARY:United Snow Birds: Jan 30
DESCRIPTION:United Snow Birds: Jan 30
URL:https://rlrgc.com/calendar/united-snow-birds-jan-30/
END:VEVENT
BEGIN:VEVENT
DTSTART;TZID=America/Chicago:20220130T110000
DTEND;TZID=America/Chicago:20220130T160000
DTSTAMP:20260419T150807
CREATED:20211228T010623Z
LAST-MODIFIED:20211229T000059Z
UID:5220-1643540400-1643558400@rlrgc.com
SUMMARY:NO Open Shooting Today
DESCRIPTION:
URL:https://rlrgc.com/calendar/2022-open-shooting-archery-sundays-jan-2-thru-march-27-3/
END:VEVENT
END:VCALENDAR