BEGIN:VCALENDAR
VERSION:2.0
PRODID:-//Random Lake Rod &amp; Gun Club - ECPv6.15.9//NONSGML v1.0//EN
CALSCALE:GREGORIAN
METHOD:PUBLISH
X-WR-CALNAME:Random Lake Rod &amp; Gun Club
X-ORIGINAL-URL:https://rlrgc.com
X-WR-CALDESC:Events for Random Lake Rod &amp; Gun Club
REFRESH-INTERVAL;VALUE=DURATION:PT1H
X-Robots-Tag:noindex
X-PUBLISHED-TTL:PT1H
BEGIN:VTIMEZONE
TZID:America/Chicago
BEGIN:DAYLIGHT
TZOFFSETFROM:-0600
TZOFFSETTO:-0500
TZNAME:CDT
DTSTART:20210314T080000
END:DAYLIGHT
BEGIN:STANDARD
TZOFFSETFROM:-0500
TZOFFSETTO:-0600
TZNAME:CST
DTSTART:20211107T070000
END:STANDARD
BEGIN:DAYLIGHT
TZOFFSETFROM:-0600
TZOFFSETTO:-0500
TZNAME:CDT
DTSTART:20220313T080000
END:DAYLIGHT
BEGIN:STANDARD
TZOFFSETFROM:-0500
TZOFFSETTO:-0600
TZNAME:CST
DTSTART:20221106T070000
END:STANDARD
BEGIN:DAYLIGHT
TZOFFSETFROM:-0600
TZOFFSETTO:-0500
TZNAME:CDT
DTSTART:20230312T080000
END:DAYLIGHT
BEGIN:STANDARD
TZOFFSETFROM:-0500
TZOFFSETTO:-0600
TZNAME:CST
DTSTART:20231105T070000
END:STANDARD
END:VTIMEZONE
BEGIN:VEVENT
DTSTART;TZID=America/Chicago:20220402T070000
DTEND;TZID=America/Chicago:20220402T120000
DTSTAMP:20260419T120110
CREATED:20220213T183003Z
LAST-MODIFIED:20220213T183003Z
UID:5471-1648882800-1648900800@rlrgc.com
SUMMARY:Hunters Safety 7am - 12 pm\, Apr 2\, 2022
DESCRIPTION:Hunters Safety 7am – 12 pm\, Apr 2\, 2022
URL:https://rlrgc.com/calendar/hunters-safety-7am-12-pm-apr-2-2022/
END:VEVENT
BEGIN:VEVENT
DTSTART;TZID=America/Chicago:20220402T070000
DTEND;TZID=America/Chicago:20220402T120000
DTSTAMP:20260419T120110
CREATED:20220217T033014Z
LAST-MODIFIED:20220217T033014Z
UID:5489-1648882800-1648900800@rlrgc.com
SUMMARY:Hunters Safey Course - 2022 Class 4 of 5
DESCRIPTION:Hunters Safey Course – 2022 Class 4 of 5 \nSat Apr 2
URL:https://rlrgc.com/calendar/hunters-safey-course-2022-class-4-of-5/
END:VEVENT
END:VCALENDAR