BEGIN:VCALENDAR
VERSION:2.0
PRODID:-//Random Lake Rod &amp; Gun Club - ECPv6.15.9//NONSGML v1.0//EN
CALSCALE:GREGORIAN
METHOD:PUBLISH
X-ORIGINAL-URL:https://rlrgc.com
X-WR-CALDESC:Events for Random Lake Rod &amp; Gun Club
REFRESH-INTERVAL;VALUE=DURATION:PT1H
X-Robots-Tag:noindex
X-PUBLISHED-TTL:PT1H
BEGIN:VTIMEZONE
TZID:America/Chicago
BEGIN:DAYLIGHT
TZOFFSETFROM:-0600
TZOFFSETTO:-0500
TZNAME:CDT
DTSTART:20210314T080000
END:DAYLIGHT
BEGIN:STANDARD
TZOFFSETFROM:-0500
TZOFFSETTO:-0600
TZNAME:CST
DTSTART:20211107T070000
END:STANDARD
BEGIN:DAYLIGHT
TZOFFSETFROM:-0600
TZOFFSETTO:-0500
TZNAME:CDT
DTSTART:20220313T080000
END:DAYLIGHT
BEGIN:STANDARD
TZOFFSETFROM:-0500
TZOFFSETTO:-0600
TZNAME:CST
DTSTART:20221106T070000
END:STANDARD
BEGIN:DAYLIGHT
TZOFFSETFROM:-0600
TZOFFSETTO:-0500
TZNAME:CDT
DTSTART:20230312T080000
END:DAYLIGHT
BEGIN:STANDARD
TZOFFSETFROM:-0500
TZOFFSETTO:-0600
TZNAME:CST
DTSTART:20231105T070000
END:STANDARD
END:VTIMEZONE
BEGIN:VEVENT
DTSTART;VALUE=DATE:20220908
DTEND;VALUE=DATE:20220909
DTSTAMP:20260423T035340
CREATED:20220908T231054Z
LAST-MODIFIED:20220908T231054Z
UID:5561-1662595200-1662681599@rlrgc.com
SUMMARY:Traveling League - June 28\, 2022
DESCRIPTION:Traveling League – June 28\, 2022
URL:https://rlrgc.com/calendar/traveling-league-june-28-2022/
END:VEVENT
BEGIN:VEVENT
DTSTART;TZID=America/Chicago:20220908T193000
DTEND;TZID=America/Chicago:20220908T220000
DTSTAMP:20260423T035340
CREATED:20211228T021326Z
LAST-MODIFIED:20211228T021326Z
UID:5424-1662665400-1662674400@rlrgc.com
SUMMARY:2022 September Monthly Club Meeting @ 7:30 pm
DESCRIPTION:
URL:https://rlrgc.com/calendar/2022-september-monthly-club-meeting-730-pm/
END:VEVENT
END:VCALENDAR