BEGIN:VCALENDAR
VERSION:2.0
PRODID:-//Random Lake Rod &amp; Gun Club - ECPv6.15.9//NONSGML v1.0//EN
CALSCALE:GREGORIAN
METHOD:PUBLISH
X-ORIGINAL-URL:https://rlrgc.com
X-WR-CALDESC:Events for Random Lake Rod &amp; Gun Club
REFRESH-INTERVAL;VALUE=DURATION:PT1H
X-Robots-Tag:noindex
X-PUBLISHED-TTL:PT1H
BEGIN:VTIMEZONE
TZID:America/Chicago
BEGIN:DAYLIGHT
TZOFFSETFROM:-0600
TZOFFSETTO:-0500
TZNAME:CDT
DTSTART:20190310T080000
END:DAYLIGHT
BEGIN:STANDARD
TZOFFSETFROM:-0500
TZOFFSETTO:-0600
TZNAME:CST
DTSTART:20191103T070000
END:STANDARD
BEGIN:DAYLIGHT
TZOFFSETFROM:-0600
TZOFFSETTO:-0500
TZNAME:CDT
DTSTART:20200308T080000
END:DAYLIGHT
BEGIN:STANDARD
TZOFFSETFROM:-0500
TZOFFSETTO:-0600
TZNAME:CST
DTSTART:20201101T070000
END:STANDARD
BEGIN:DAYLIGHT
TZOFFSETFROM:-0600
TZOFFSETTO:-0500
TZNAME:CDT
DTSTART:20210314T080000
END:DAYLIGHT
BEGIN:STANDARD
TZOFFSETFROM:-0500
TZOFFSETTO:-0600
TZNAME:CST
DTSTART:20211107T070000
END:STANDARD
BEGIN:DAYLIGHT
TZOFFSETFROM:-0600
TZOFFSETTO:-0500
TZNAME:CDT
DTSTART:20220313T080000
END:DAYLIGHT
BEGIN:STANDARD
TZOFFSETFROM:-0500
TZOFFSETTO:-0600
TZNAME:CST
DTSTART:20221106T070000
END:STANDARD
END:VTIMEZONE
BEGIN:VEVENT
DTSTART;TZID=America/Chicago:20201008T193000
DTEND;TZID=America/Chicago:20201008T213000
DTSTAMP:20260420T150449
CREATED:20191220T022708Z
LAST-MODIFIED:20200323T180350Z
UID:4054-1602185400-1602192600@rlrgc.com
SUMMARY:October 2020 Monthly Club Meeting
DESCRIPTION:October 2020 Monthly Club Meeting
URL:https://rlrgc.com/calendar/october-2020-monthly-club-meeting/
END:VEVENT
BEGIN:VEVENT
DTSTART;VALUE=DATE:20201010
DTEND;VALUE=DATE:20201011
DTSTAMP:20260420T150449
CREATED:20200122T003648Z
LAST-MODIFIED:20200122T004242Z
UID:4141-1602288000-1602374399@rlrgc.com
SUMMARY:Club Closed (JL) Private Event Oct 10
DESCRIPTION:Club Closed (JL) Private Event Oct 10 \n  \n  \n  \n 
URL:https://rlrgc.com/calendar/club-closed-jl-private-event-oct-10/
END:VEVENT
BEGIN:VEVENT
DTSTART;TZID=America/Chicago:20201112T193000
DTEND;TZID=America/Chicago:20201112T213000
DTSTAMP:20260420T150449
CREATED:20191220T022745Z
LAST-MODIFIED:20200323T175959Z
UID:4057-1605209400-1605216600@rlrgc.com
SUMMARY:November 2020 Monthly Club Meeting
DESCRIPTION:November 2020 Monthly Club Meeting
URL:https://rlrgc.com/calendar/november-2020-monthly-club-meeting/
END:VEVENT
BEGIN:VEVENT
DTSTART;VALUE=DATE:20201122
DTEND;VALUE=DATE:20201123
DTSTAMP:20260420T150449
CREATED:20200722T133059Z
LAST-MODIFIED:20200722T133059Z
UID:4385-1606003200-1606089599@rlrgc.com
SUMMARY:Club Closed (BM) Private Member Event
DESCRIPTION:Club Closed (BM) Private Member Event
URL:https://rlrgc.com/calendar/club-closed-bm-private-member-event/
END:VEVENT
BEGIN:VEVENT
DTSTART;VALUE=DATE:20201128
DTEND;VALUE=DATE:20201129
DTSTAMP:20260420T150449
CREATED:20200911T002347Z
LAST-MODIFIED:20200911T002347Z
UID:4440-1606521600-1606607999@rlrgc.com
SUMMARY:Club Closed (JV) Private Event Nov 28
DESCRIPTION:Club Closed (JV) Private Event Nov 28
URL:https://rlrgc.com/calendar/club-closed-jv-private-event-nov-28/
END:VEVENT
BEGIN:VEVENT
DTSTART;TZID=America/Chicago:20201130T080000
DTEND;TZID=America/Chicago:20201130T170000
DTSTAMP:20260420T150449
CREATED:20201201T022932Z
LAST-MODIFIED:20201201T022932Z
UID:4594-1606723200-1606755600@rlrgc.com
SUMMARY:Tuesday Archery League (Jan 5 - Mar 23\, 2021)
DESCRIPTION:Tuesday Archery League (Jan 5 – Mar 23\, 2021) \nLeague Time: 5pm – 10pm \nFormat: 3D archery\, 2 person teams and 14 targets/28 arrows
URL:https://rlrgc.com/calendar/tuesday-archery-league-jan-5-mar-23-2021-12/
END:VEVENT
BEGIN:VEVENT
DTSTART;TZID=America/Chicago:20201207T180000
DTEND;TZID=America/Chicago:20201207T210000
DTSTAMP:20260420T150449
CREATED:20201201T015931Z
LAST-MODIFIED:20201201T020142Z
UID:4516-1607364000-1607374800@rlrgc.com
SUMMARY:WI Concealed Carry Class Dec 7 6pm - 9 pm
DESCRIPTION:WI Concealed Carry Class Dec 7\, 2020. 6pm – 9 pm \nContact Starla 920-747-0288 for details. \nAdditional Info posted on Facebook page.
URL:https://rlrgc.com/calendar/wi-concealed-carry-class-dec-7-6pm-9-pm/
END:VEVENT
BEGIN:VEVENT
DTSTART;TZID=America/Chicago:20201210T193000
DTEND;TZID=America/Chicago:20201210T213000
DTSTAMP:20260420T150449
CREATED:20191220T022823Z
LAST-MODIFIED:20200323T180034Z
UID:4060-1607628600-1607635800@rlrgc.com
SUMMARY:December 2020 Monthly Club Meeting
DESCRIPTION:December 2020 Monthly Club Meeting
URL:https://rlrgc.com/calendar/december-2020-monthly-club-meeting/
END:VEVENT
BEGIN:VEVENT
DTSTART;VALUE=DATE:20201223
DTEND;VALUE=DATE:20201224
DTSTAMP:20260420T150449
CREATED:20201217T182547Z
LAST-MODIFIED:20201217T182547Z
UID:4641-1608681600-1608767999@rlrgc.com
SUMMARY:Club Closed (TH) Private Event Dec 23
DESCRIPTION:Club Closed (TH) Private Event Dec 23
URL:https://rlrgc.com/calendar/club-closed-th-private-event-dec-23/
END:VEVENT
BEGIN:VEVENT
DTSTART;VALUE=DATE:20201226
DTEND;VALUE=DATE:20201227
DTSTAMP:20260420T150449
CREATED:20200122T012544Z
LAST-MODIFIED:20200122T012544Z
UID:4178-1608940800-1609027199@rlrgc.com
SUMMARY:Club Closed (LV) Private Event Dec 26
DESCRIPTION:Club Closed (LV) Private Event Dec 26
URL:https://rlrgc.com/calendar/club-closed-lv-private-event-dec-26/
END:VEVENT
BEGIN:VEVENT
DTSTART;TZID=America/Chicago:20210104T170000
DTEND;TZID=America/Chicago:20210104T220000
DTSTAMP:20260420T150449
CREATED:20201201T020812Z
LAST-MODIFIED:20201201T020812Z
UID:4523-1609779600-1609797600@rlrgc.com
SUMMARY:Monday Archery League (Jan 4 - Mar 22\, 2021)
DESCRIPTION:Monday Archery League (Jan 4 – Mar 22\, 2021) \nLeague Time: 5:00pm – 10:00pm \nFormat: 3D archery\, 2 person teams and 14 targets/28 arrows.
URL:https://rlrgc.com/calendar/monday-archery-league-jan-4-mar-22-2021/
END:VEVENT
BEGIN:VEVENT
DTSTART;TZID=America/Chicago:20210105T170000
DTEND;TZID=America/Chicago:20210105T220000
DTSTAMP:20260420T150449
CREATED:20201201T022119Z
LAST-MODIFIED:20201201T022119Z
UID:4559-1609866000-1609884000@rlrgc.com
SUMMARY:Tuesday Archery League (Jan 5 - Mar 23\, 2021)
DESCRIPTION:Tuesday Archery League (Jan 5 – Mar 23\, 2021) \nLeague Time: 5pm – 10pm \nFormat: 3D archery\, 2 person teams and 14 targets/28 arrows
URL:https://rlrgc.com/calendar/tuesday-archery-league-jan-5-mar-23-2021/
END:VEVENT
BEGIN:VEVENT
DTSTART;TZID=America/Chicago:20210106T170000
DTEND;TZID=America/Chicago:20210106T220000
DTSTAMP:20260420T150449
CREATED:20201201T023145Z
LAST-MODIFIED:20201201T023145Z
UID:4600-1609952400-1609970400@rlrgc.com
SUMMARY:Wednesday Archery League (Jan 6 - Mar 24\, 2021)
DESCRIPTION:Wednesday Archery League (Jan 6 – Mar 24\, 2021) \nLeague Time: 5pm – 10pm \nFormat: 3D archery\, 2 person teams and 14 targets/28 arrows
URL:https://rlrgc.com/calendar/wednesday-archery-league-jan-6-mar-24-2021/
END:VEVENT
BEGIN:VEVENT
DTSTART;TZID=America/Chicago:20210110T113000
DTEND;TZID=America/Chicago:20210110T143000
DTSTAMP:20260420T150449
CREATED:20201201T020048Z
LAST-MODIFIED:20201201T020048Z
UID:4519-1610278200-1610289000@rlrgc.com
SUMMARY:WI Concealed Carry Class Jan 10\, 2021 11:30am 2:30pm
DESCRIPTION:WI Concealed Carry Class Jan 10\, 2021 11:30am 2:30pm \nContact Starla 920-747-0288 for details. \nAdditional Info posted on Facebook page.
URL:https://rlrgc.com/calendar/wi-concealed-carry-class-jan-10-2021-1130am-230pm/
END:VEVENT
BEGIN:VEVENT
DTSTART;TZID=America/Chicago:20210111T170000
DTEND;TZID=America/Chicago:20210111T220000
DTSTAMP:20260420T150449
CREATED:20201201T020900Z
LAST-MODIFIED:20201201T020900Z
UID:4526-1610384400-1610402400@rlrgc.com
SUMMARY:Monday Archery League (Jan 4 - Mar 22\, 2021)
DESCRIPTION:Monday Archery League (Jan 4 – Mar 22\, 2021) \nLeague Time: 5:00pm – 10:00pm \nFormat: 3D archery\, 2 person teams and 14 targets/28 arrows.
URL:https://rlrgc.com/calendar/monday-archery-league-jan-4-mar-22-2021-2/
END:VEVENT
BEGIN:VEVENT
DTSTART;TZID=America/Chicago:20210112T170000
DTEND;TZID=America/Chicago:20210112T220000
DTSTAMP:20260420T150449
CREATED:20201201T022213Z
LAST-MODIFIED:20201201T022213Z
UID:4562-1610470800-1610488800@rlrgc.com
SUMMARY:Tuesday Archery League (Jan 5 - Mar 23\, 2021)
DESCRIPTION:Tuesday Archery League (Jan 5 – Mar 23\, 2021) \nLeague Time: 5pm – 10pm \nFormat: 3D archery\, 2 person teams and 14 targets/28 arrows
URL:https://rlrgc.com/calendar/tuesday-archery-league-jan-5-mar-23-2021-2/
END:VEVENT
BEGIN:VEVENT
DTSTART;TZID=America/Chicago:20210113T170000
DTEND;TZID=America/Chicago:20210113T220000
DTSTAMP:20260420T150449
CREATED:20201201T023224Z
LAST-MODIFIED:20201201T023224Z
UID:4603-1610557200-1610575200@rlrgc.com
SUMMARY:Wednesday Archery League (Jan 6 - Mar 24\, 2021)
DESCRIPTION:Wednesday Archery League (Jan 6 – Mar 24\, 2021) \nLeague Time: 5pm – 10pm \nFormat: 3D archery\, 2 person teams and 14 targets/28 arrows
URL:https://rlrgc.com/calendar/wednesday-archery-league-jan-6-mar-24-2021-2/
END:VEVENT
BEGIN:VEVENT
DTSTART;TZID=America/Chicago:20210114T193000
DTEND;TZID=America/Chicago:20210114T213000
DTSTAMP:20260420T150449
CREATED:20191220T022914Z
LAST-MODIFIED:20191220T022914Z
UID:4063-1610652600-1610659800@rlrgc.com
SUMMARY:January 2021 Monthly Club Meeting
DESCRIPTION:January 2021 Monthly Club Meeting
URL:https://rlrgc.com/calendar/january-2021-monthly-club-meeting/
END:VEVENT
BEGIN:VEVENT
DTSTART;TZID=America/Chicago:20210118T170000
DTEND;TZID=America/Chicago:20210118T220000
DTSTAMP:20260420T150449
CREATED:20201201T021218Z
LAST-MODIFIED:20201201T021218Z
UID:4532-1610989200-1611007200@rlrgc.com
SUMMARY:Monday Archery League (Jan 4 - Mar 22\, 2021)
DESCRIPTION:Monday Archery League (Jan 4 – Mar 22\, 2021) \nLeague Time: 5pm – 10pm \nFormat: 3D archery\, 2 person teams and 14 targets/28 arrows
URL:https://rlrgc.com/calendar/monday-archery-league-jan-4-mar-22-2021-4/
END:VEVENT
BEGIN:VEVENT
DTSTART;TZID=America/Chicago:20210119T170000
DTEND;TZID=America/Chicago:20210119T220000
DTSTAMP:20260420T150449
CREATED:20201201T022246Z
LAST-MODIFIED:20201201T022246Z
UID:4565-1611075600-1611093600@rlrgc.com
SUMMARY:Tuesday Archery League (Jan 5 - Mar 23\, 2021)
DESCRIPTION:Tuesday Archery League (Jan 5 – Mar 23\, 2021) \nLeague Time: 5pm – 10pm \nFormat: 3D archery\, 2 person teams and 14 targets/28 arrows
URL:https://rlrgc.com/calendar/tuesday-archery-league-jan-5-mar-23-2021-3/
END:VEVENT
BEGIN:VEVENT
DTSTART;TZID=America/Chicago:20210120T170000
DTEND;TZID=America/Chicago:20210120T220000
DTSTAMP:20260420T150449
CREATED:20201201T023329Z
LAST-MODIFIED:20201201T023329Z
UID:4609-1611162000-1611180000@rlrgc.com
SUMMARY:Wednesday Archery League (Jan 6 - Mar 24\, 2021)
DESCRIPTION:Wednesday Archery League (Jan 6 – Mar 24\, 2021) \nLeague Time: 5pm – 10pm \nFormat: 3D archery\, 2 person teams and 14 targets/28 arrows
URL:https://rlrgc.com/calendar/wednesday-archery-league-jan-6-mar-24-2021-4/
END:VEVENT
BEGIN:VEVENT
DTSTART;VALUE=DATE:20210122
DTEND;VALUE=DATE:20210201
DTSTAMP:20260420T150449
CREATED:20200323T182135Z
LAST-MODIFIED:20200323T182135Z
UID:4250-1611273600-1612137599@rlrgc.com
SUMMARY:Predator Hunt Jan 22 - Jan 31\, 2021
DESCRIPTION:Predator Hunt Jan 22 – Jan 31\, 2021
URL:https://rlrgc.com/calendar/predator-hunt-jan-22-jan-31-2021/
END:VEVENT
BEGIN:VEVENT
DTSTART;VALUE=DATE:20210123
DTEND;VALUE=DATE:20210124
DTSTAMP:20260420T150449
CREATED:20200323T182045Z
LAST-MODIFIED:20200323T182045Z
UID:4247-1611360000-1611446399@rlrgc.com
SUMMARY:Rabbit Hunt Jan 23\, 2021
DESCRIPTION:Rabbit Hunt Jan 23\, 2021
URL:https://rlrgc.com/calendar/rabbit-hunt-jan-23-2021/
END:VEVENT
BEGIN:VEVENT
DTSTART;TZID=America/Chicago:20210125T170000
DTEND;TZID=America/Chicago:20210125T220000
DTSTAMP:20260420T150449
CREATED:20201201T021258Z
LAST-MODIFIED:20201201T021258Z
UID:4535-1611594000-1611612000@rlrgc.com
SUMMARY:Monday Archery League (Jan 4 - Mar 22\, 2021)
DESCRIPTION:Monday Archery League (Jan 4 – Mar 22\, 2021) \nLeague Time: 5pm – 10pm \nFormat: 3D archery\, 2 person teams and 14 targets/28 arrows
URL:https://rlrgc.com/calendar/monday-archery-league-jan-4-mar-22-2021-5/
END:VEVENT
BEGIN:VEVENT
DTSTART;TZID=America/Chicago:20210126T170000
DTEND;TZID=America/Chicago:20210126T220000
DTSTAMP:20260420T150449
CREATED:20201201T022322Z
LAST-MODIFIED:20201201T022322Z
UID:4568-1611680400-1611698400@rlrgc.com
SUMMARY:Tuesday Archery League (Jan 5 - Mar 23\, 2021)
DESCRIPTION:Tuesday Archery League (Jan 5 – Mar 23\, 2021) \nLeague Time: 5pm – 10pm \nFormat: 3D archery\, 2 person teams and 14 targets/28 arrows
URL:https://rlrgc.com/calendar/tuesday-archery-league-jan-5-mar-23-2021-4/
END:VEVENT
BEGIN:VEVENT
DTSTART;TZID=America/Chicago:20210127T170000
DTEND;TZID=America/Chicago:20210127T220000
DTSTAMP:20260420T150449
CREATED:20201201T023256Z
LAST-MODIFIED:20201201T023256Z
UID:4606-1611766800-1611784800@rlrgc.com
SUMMARY:Wednesday Archery League (Jan 6 - Mar 24\, 2021)
DESCRIPTION:Wednesday Archery League (Jan 6 – Mar 24\, 2021) \nLeague Time: 5pm – 10pm \nFormat: 3D archery\, 2 person teams and 14 targets/28 arrows
URL:https://rlrgc.com/calendar/wednesday-archery-league-jan-6-mar-24-2021-3/
END:VEVENT
BEGIN:VEVENT
DTSTART;TZID=America/Chicago:20210201T170000
DTEND;TZID=America/Chicago:20210201T220000
DTSTAMP:20260420T150449
CREATED:20201201T021026Z
LAST-MODIFIED:20201201T021116Z
UID:4529-1612198800-1612216800@rlrgc.com
SUMMARY:Monday Archery League (Jan 4 - Mar 22\, 2021)
DESCRIPTION:Monday Archery League (Jan 4 – Mar 22\, 2021) \nLeague Time: 5pm – 10pm \nFormat: 3D archery\, 2 person teams and 14 targets/28 arrows
URL:https://rlrgc.com/calendar/monday-archery-league-jan-4-mar-22-2021-3/
END:VEVENT
BEGIN:VEVENT
DTSTART;TZID=America/Chicago:20210202T170000
DTEND;TZID=America/Chicago:20210202T220000
DTSTAMP:20260420T150449
CREATED:20201201T022525Z
LAST-MODIFIED:20201201T022525Z
UID:4573-1612285200-1612303200@rlrgc.com
SUMMARY:Tuesday Archery League (Jan 5 - Mar 23\, 2021)
DESCRIPTION:Tuesday Archery League (Jan 5 – Mar 23\, 2021) \nLeague Time: 5pm – 10pm \nFormat: 3D archery\, 2 person teams and 14 targets/28 arrows
URL:https://rlrgc.com/calendar/tuesday-archery-league-jan-5-mar-23-2021-5/
END:VEVENT
BEGIN:VEVENT
DTSTART;TZID=America/Chicago:20210203T170000
DTEND;TZID=America/Chicago:20210203T220000
DTSTAMP:20260420T150449
CREATED:20201201T023444Z
LAST-MODIFIED:20201201T023444Z
UID:4612-1612371600-1612389600@rlrgc.com
SUMMARY:Wednesday Archery League (Jan 6 - Mar 24\, 2021)
DESCRIPTION:Wednesday Archery League (Jan 6 – Mar 24\, 2021) \nLeague Time: 5pm – 10om \nFormat: 3D archery\, 2 persons teams and 14 targets/28 arrows
URL:https://rlrgc.com/calendar/wednesday-archery-league-jan-6-mar-24-2021-5/
END:VEVENT
BEGIN:VEVENT
DTSTART;TZID=America/Chicago:20210206T100000
DTEND;TZID=America/Chicago:20210206T120000
DTSTAMP:20260420T150449
CREATED:20210124T184755Z
LAST-MODIFIED:20210124T185843Z
UID:4715-1612605600-1612612800@rlrgc.com
SUMMARY:Practical Home Defense (Non-Shooting) Feb 6\, 2021
DESCRIPTION:Practical Home Defense (Non-Shooting) Feb 6\, 2021. \n10:00 am – Noon.  For women only. \nEveryone should have a plan on how to best secure their home and protect their family. Come to this hands-on experience that includes topics like what to do when a stranger approaches your home\, establishing a family code-word and response plan\, checking your home for intruders. \nHosted by Starla Batzko. Questions? Call 920.747.0288 \nDonations will be accepted to benefit local law enforcement organizations. \nPlease review the available slots below and click on the button to sign up. \nhttps://www.signupgenius.com/go/70A0A44A5AF2DA6F58-practical\nClass limited to 20.
URL:https://rlrgc.com/calendar/practical-home-defense-non-shooting-feb-6-2021/
END:VEVENT
END:VCALENDAR