BEGIN:VCALENDAR
VERSION:2.0
PRODID:-//Random Lake Rod &amp; Gun Club - ECPv6.15.9//NONSGML v1.0//EN
CALSCALE:GREGORIAN
METHOD:PUBLISH
X-WR-CALNAME:Random Lake Rod &amp; Gun Club
X-ORIGINAL-URL:https://rlrgc.com
X-WR-CALDESC:Events for Random Lake Rod &amp; Gun Club
REFRESH-INTERVAL;VALUE=DURATION:PT1H
X-Robots-Tag:noindex
X-PUBLISHED-TTL:PT1H
BEGIN:VTIMEZONE
TZID:America/Chicago
BEGIN:DAYLIGHT
TZOFFSETFROM:-0600
TZOFFSETTO:-0500
TZNAME:CDT
DTSTART:20190310T080000
END:DAYLIGHT
BEGIN:STANDARD
TZOFFSETFROM:-0500
TZOFFSETTO:-0600
TZNAME:CST
DTSTART:20191103T070000
END:STANDARD
BEGIN:DAYLIGHT
TZOFFSETFROM:-0600
TZOFFSETTO:-0500
TZNAME:CDT
DTSTART:20200308T080000
END:DAYLIGHT
BEGIN:STANDARD
TZOFFSETFROM:-0500
TZOFFSETTO:-0600
TZNAME:CST
DTSTART:20201101T070000
END:STANDARD
BEGIN:DAYLIGHT
TZOFFSETFROM:-0600
TZOFFSETTO:-0500
TZNAME:CDT
DTSTART:20210314T080000
END:DAYLIGHT
BEGIN:STANDARD
TZOFFSETFROM:-0500
TZOFFSETTO:-0600
TZNAME:CST
DTSTART:20211107T070000
END:STANDARD
END:VTIMEZONE
BEGIN:VEVENT
DTSTART;TZID=America/Chicago:20201130T080000
DTEND;TZID=America/Chicago:20201130T170000
DTSTAMP:20260420T213741
CREATED:20201201T022932Z
LAST-MODIFIED:20201201T022932Z
UID:4594-1606723200-1606755600@rlrgc.com
SUMMARY:Tuesday Archery League (Jan 5 - Mar 23\, 2021)
DESCRIPTION:Tuesday Archery League (Jan 5 – Mar 23\, 2021) \nLeague Time: 5pm – 10pm \nFormat: 3D archery\, 2 person teams and 14 targets/28 arrows
URL:https://rlrgc.com/calendar/tuesday-archery-league-jan-5-mar-23-2021-12/
END:VEVENT
BEGIN:VEVENT
DTSTART;VALUE=DATE:20201128
DTEND;VALUE=DATE:20201129
DTSTAMP:20260420T213741
CREATED:20200911T002347Z
LAST-MODIFIED:20200911T002347Z
UID:4440-1606521600-1606607999@rlrgc.com
SUMMARY:Club Closed (JV) Private Event Nov 28
DESCRIPTION:Club Closed (JV) Private Event Nov 28
URL:https://rlrgc.com/calendar/club-closed-jv-private-event-nov-28/
END:VEVENT
BEGIN:VEVENT
DTSTART;VALUE=DATE:20201122
DTEND;VALUE=DATE:20201123
DTSTAMP:20260420T213741
CREATED:20200722T133059Z
LAST-MODIFIED:20200722T133059Z
UID:4385-1606003200-1606089599@rlrgc.com
SUMMARY:Club Closed (BM) Private Member Event
DESCRIPTION:Club Closed (BM) Private Member Event
URL:https://rlrgc.com/calendar/club-closed-bm-private-member-event/
END:VEVENT
BEGIN:VEVENT
DTSTART;TZID=America/Chicago:20201112T193000
DTEND;TZID=America/Chicago:20201112T213000
DTSTAMP:20260420T213741
CREATED:20191220T022745Z
LAST-MODIFIED:20200323T175959Z
UID:4057-1605209400-1605216600@rlrgc.com
SUMMARY:November 2020 Monthly Club Meeting
DESCRIPTION:November 2020 Monthly Club Meeting
URL:https://rlrgc.com/calendar/november-2020-monthly-club-meeting/
END:VEVENT
BEGIN:VEVENT
DTSTART;VALUE=DATE:20201010
DTEND;VALUE=DATE:20201011
DTSTAMP:20260420T213741
CREATED:20200122T003648Z
LAST-MODIFIED:20200122T004242Z
UID:4141-1602288000-1602374399@rlrgc.com
SUMMARY:Club Closed (JL) Private Event Oct 10
DESCRIPTION:Club Closed (JL) Private Event Oct 10 \n  \n  \n  \n 
URL:https://rlrgc.com/calendar/club-closed-jl-private-event-oct-10/
END:VEVENT
BEGIN:VEVENT
DTSTART;TZID=America/Chicago:20201008T193000
DTEND;TZID=America/Chicago:20201008T213000
DTSTAMP:20260420T213741
CREATED:20191220T022708Z
LAST-MODIFIED:20200323T180350Z
UID:4054-1602185400-1602192600@rlrgc.com
SUMMARY:October 2020 Monthly Club Meeting
DESCRIPTION:October 2020 Monthly Club Meeting
URL:https://rlrgc.com/calendar/october-2020-monthly-club-meeting/
END:VEVENT
BEGIN:VEVENT
DTSTART;VALUE=DATE:20201004
DTEND;VALUE=DATE:20201005
DTSTAMP:20260420T213741
CREATED:20200911T002307Z
LAST-MODIFIED:20200911T002307Z
UID:4438-1601769600-1601855999@rlrgc.com
SUMMARY:Club Closed (KD) Private Event Oct 4
DESCRIPTION:Club Closed (KD) Private Event Oct 4
URL:https://rlrgc.com/calendar/club-closed-kd-private-event-oct-4/
END:VEVENT
BEGIN:VEVENT
DTSTART;TZID=America/Chicago:20200910T193000
DTEND;TZID=America/Chicago:20200910T213000
DTSTAMP:20260420T213741
CREATED:20191220T022627Z
LAST-MODIFIED:20200323T175850Z
UID:4050-1599766200-1599773400@rlrgc.com
SUMMARY:September 2020 Monthly Club Meeting
DESCRIPTION:September 2020 Monthly Club Meeting
URL:https://rlrgc.com/calendar/september-2020-monthly-club-meeting/
END:VEVENT
BEGIN:VEVENT
DTSTART;TZID=America/Chicago:20200827T170000
DTEND;TZID=America/Chicago:20200827T220000
DTSTAMP:20260420T213741
CREATED:20200601T173622Z
LAST-MODIFIED:20200601T173622Z
UID:4289-1598547600-1598565600@rlrgc.com
SUMMARY:2020 Summer Trap League: Bust-up Party
DESCRIPTION:2020 Summer Trap League: Bust-up Party
URL:https://rlrgc.com/calendar/2020-summer-trap-league-bust-up-party/
END:VEVENT
BEGIN:VEVENT
DTSTART;TZID=America/Chicago:20200823T090000
DTEND;TZID=America/Chicago:20200823T150000
DTSTAMP:20260420T213741
CREATED:20200109T212729Z
LAST-MODIFIED:20200109T213013Z
UID:4122-1598173200-1598194800@rlrgc.com
SUMMARY:75 Bird Lewis Shoot - Aug 23
DESCRIPTION:75 Bird Lewis Shoot – Aug 23. \nRegistration: 9:00am – 2:45pm. \nAll targets are shot from 16-yard line. \n 
URL:https://rlrgc.com/calendar/75-bird-lewis-shoot-aug-23/
END:VEVENT
BEGIN:VEVENT
DTSTART;TZID=America/Chicago:20200820T170000
DTEND;TZID=America/Chicago:20200820T220000
DTSTAMP:20260420T213741
CREATED:20200601T173506Z
LAST-MODIFIED:20200601T173506Z
UID:4285-1597942800-1597960800@rlrgc.com
SUMMARY:2020 Summer Trap League: Wk 9
DESCRIPTION:2020 Summer Trap League: Wk 9
URL:https://rlrgc.com/calendar/2020-summer-trap-league-wk-9/
END:VEVENT
BEGIN:VEVENT
DTSTART;TZID=America/Chicago:20200819T170000
DTEND;TZID=America/Chicago:20200819T220000
DTSTAMP:20260420T213741
CREATED:20200601T174055Z
LAST-MODIFIED:20200601T174055Z
UID:4299-1597856400-1597874400@rlrgc.com
SUMMARY:2020 Summer Trap League: Make-up & Shooting Ahead (Wed)
DESCRIPTION:2020 Summer Trap League: Make-up & Shooting Ahead (Wed)
URL:https://rlrgc.com/calendar/2020-summer-trap-league-make-up-shooting-ahead-wed-3/
END:VEVENT
BEGIN:VEVENT
DTSTART;TZID=America/Chicago:20200819T170000
DTEND;TZID=America/Chicago:20200819T210000
DTSTAMP:20260420T213741
CREATED:20200615T173313Z
LAST-MODIFIED:20200615T173313Z
UID:4370-1597856400-1597870800@rlrgc.com
SUMMARY:Open Shoot / 5pm - 9 pm
DESCRIPTION:Open Shoot / 5pm – 9 pm
URL:https://rlrgc.com/calendar/open-shoot-5pm-9-pm-10/
END:VEVENT
BEGIN:VEVENT
DTSTART;TZID=America/Chicago:20200813T170000
DTEND;TZID=America/Chicago:20200813T220000
DTSTAMP:20260420T213741
CREATED:20200601T173358Z
LAST-MODIFIED:20200601T173358Z
UID:4282-1597338000-1597356000@rlrgc.com
SUMMARY:2020 Summer Trap League: Wk 8
DESCRIPTION:2020 Summer Trap League: Wk 8
URL:https://rlrgc.com/calendar/2020-summer-trap-league-wk-8/
END:VEVENT
BEGIN:VEVENT
DTSTART;TZID=America/Chicago:20200812T170000
DTEND;TZID=America/Chicago:20200812T200000
DTSTAMP:20260420T213741
CREATED:20200615T173241Z
LAST-MODIFIED:20200615T173241Z
UID:4367-1597251600-1597262400@rlrgc.com
SUMMARY:Open Shoot / 5pm - 9 pm
DESCRIPTION:Open Shoot / 5pm – 9 pm
URL:https://rlrgc.com/calendar/open-shoot-5pm-9-pm-9/
END:VEVENT
BEGIN:VEVENT
DTSTART;TZID=America/Chicago:20200811T193000
DTEND;TZID=America/Chicago:20200811T213000
DTSTAMP:20260420T213741
CREATED:20191220T022548Z
LAST-MODIFIED:20191220T022548Z
UID:4046-1597174200-1597181400@rlrgc.com
SUMMARY:August 2020 Monthly Club Meeting
DESCRIPTION:August 2020 Monthly Club Meeting
URL:https://rlrgc.com/calendar/august-2020-monthly-club-meeting/
END:VEVENT
BEGIN:VEVENT
DTSTART;VALUE=DATE:20200808
DTEND;VALUE=DATE:20200809
DTSTAMP:20260420T213741
CREATED:20200615T173721Z
LAST-MODIFIED:20200615T173721Z
UID:4381-1596844800-1596931199@rlrgc.com
SUMMARY:Club Closed (LV) Private Member Event
DESCRIPTION:Club Closed (LV) Private Member Event / Aug 8
URL:https://rlrgc.com/calendar/club-closed-lv-private-member-event/
END:VEVENT
BEGIN:VEVENT
DTSTART;TZID=America/Chicago:20200806T170000
DTEND;TZID=America/Chicago:20200806T220000
DTSTAMP:20260420T213741
CREATED:20200601T173247Z
LAST-MODIFIED:20200601T173247Z
UID:4279-1596733200-1596751200@rlrgc.com
SUMMARY:2020 Summer Trap League: Wk 7
DESCRIPTION:2020 Summer Trap League: Wk 7
URL:https://rlrgc.com/calendar/2020-summer-trap-league-wk-7/
END:VEVENT
BEGIN:VEVENT
DTSTART;TZID=America/Chicago:20200805T170000
DTEND;TZID=America/Chicago:20200805T210000
DTSTAMP:20260420T213741
CREATED:20200615T173028Z
LAST-MODIFIED:20200615T173136Z
UID:4364-1596646800-1596661200@rlrgc.com
SUMMARY:Open Shoot / 5pm - 9 pm
DESCRIPTION:Open Shoot / 5pm – 9 pm
URL:https://rlrgc.com/calendar/open-shoot-5pm-9-pm-8/
END:VEVENT
BEGIN:VEVENT
DTSTART;VALUE=DATE:20200801
DTEND;VALUE=DATE:20200802
DTSTAMP:20260420T213741
CREATED:20200615T173651Z
LAST-MODIFIED:20200615T173651Z
UID:4378-1596240000-1596326399@rlrgc.com
SUMMARY:Club Closed (JH) Private Member Event
DESCRIPTION:Club Closed (JH) Private Member Event / Aug 1 \n 
URL:https://rlrgc.com/calendar/club-closed-jh-private-member-event/
END:VEVENT
BEGIN:VEVENT
DTSTART;TZID=America/Chicago:20200730T170000
DTEND;TZID=America/Chicago:20200730T220000
DTSTAMP:20260420T213741
CREATED:20200601T173159Z
LAST-MODIFIED:20200601T173159Z
UID:4276-1596128400-1596146400@rlrgc.com
SUMMARY:2020 Summer Trap League: Wk 6
DESCRIPTION:2020 Summer Trap League: Wk 6
URL:https://rlrgc.com/calendar/2020-summer-trap-league-wk-6/
END:VEVENT
BEGIN:VEVENT
DTSTART;TZID=America/Chicago:20200729T170000
DTEND;TZID=America/Chicago:20200729T220000
DTSTAMP:20260420T213741
CREATED:20200601T174018Z
LAST-MODIFIED:20200601T174018Z
UID:4296-1596042000-1596060000@rlrgc.com
SUMMARY:2020 Summer Trap League: Make-up & Shooting Ahead (Wed)
DESCRIPTION:2020 Summer Trap League: Make-up & Shooting Ahead (Wed)
URL:https://rlrgc.com/calendar/2020-summer-trap-league-make-up-shooting-ahead-wed-2/
END:VEVENT
BEGIN:VEVENT
DTSTART;TZID=America/Chicago:20200729T170000
DTEND;TZID=America/Chicago:20200729T210000
DTSTAMP:20260420T213741
CREATED:20200615T172944Z
LAST-MODIFIED:20200615T172944Z
UID:4361-1596042000-1596056400@rlrgc.com
SUMMARY:Open Shoot / 5pm - 9 pm
DESCRIPTION:Open Shoot / 5pm – 9 pm
URL:https://rlrgc.com/calendar/open-shoot-5pm-9-pm-7/
END:VEVENT
BEGIN:VEVENT
DTSTART;TZID=America/Chicago:20200728T180000
DTEND;TZID=America/Chicago:20200728T193000
DTSTAMP:20260420T213741
CREATED:20200722T134223Z
LAST-MODIFIED:20200722T134223Z
UID:4399-1595959200-1595964600@rlrgc.com
SUMMARY:Refuse To Be a Victim / Hosted by Starla Batzko
DESCRIPTION:Refuse to be a victim\, High school and college age woman
URL:https://rlrgc.com/calendar/refuse-to-be-a-victim-hosted-by-starla-batzko/
END:VEVENT
BEGIN:VEVENT
DTSTART;TZID=America/Chicago:20200725T090000
DTEND;TZID=America/Chicago:20200725T170000
DTSTAMP:20260420T213741
CREATED:20200722T134049Z
LAST-MODIFIED:20200722T134049Z
UID:4395-1595667600-1595696400@rlrgc.com
SUMMARY:NRA Basic Pistol / Hosted by Starla Batzko
DESCRIPTION:NRA Basic Pistol
URL:https://rlrgc.com/calendar/nra-basic-pistol-hosted-by-starla-batzko/
END:VEVENT
BEGIN:VEVENT
DTSTART;TZID=America/Chicago:20200723T170000
DTEND;TZID=America/Chicago:20200723T220000
DTSTAMP:20260420T213741
CREATED:20200601T173110Z
LAST-MODIFIED:20200601T173110Z
UID:4273-1595523600-1595541600@rlrgc.com
SUMMARY:2020 Summer Trap League: Wk 5
DESCRIPTION:2020 Summer Trap League: Wk 5
URL:https://rlrgc.com/calendar/2020-summer-trap-league-wk-5/
END:VEVENT
BEGIN:VEVENT
DTSTART;TZID=America/Chicago:20200722T170000
DTEND;TZID=America/Chicago:20200722T210000
DTSTAMP:20260420T213741
CREATED:20200615T172912Z
LAST-MODIFIED:20200615T172912Z
UID:4358-1595437200-1595451600@rlrgc.com
SUMMARY:Open Shoot / 5pm - 9 pm
DESCRIPTION:Open Shoot / 5pm – 9 pm
URL:https://rlrgc.com/calendar/open-shoot-5pm-9-pm-6/
END:VEVENT
BEGIN:VEVENT
DTSTART;TZID=America/Chicago:20200719T090000
DTEND;TZID=America/Chicago:20200719T123000
DTSTAMP:20260420T213741
CREATED:20200722T133442Z
LAST-MODIFIED:20200722T133442Z
UID:4392-1595149200-1595161800@rlrgc.com
SUMMARY:Wisconsin Concealed Carry / Hosted By Starla Batzko
DESCRIPTION:Wisconsin Concealed Carry
URL:https://rlrgc.com/calendar/wisconsin-concealed-carry-hosted-by-starla-batzko/
END:VEVENT
BEGIN:VEVENT
DTSTART;TZID=America/Chicago:20200716T170000
DTEND;TZID=America/Chicago:20200716T220000
DTSTAMP:20260420T213741
CREATED:20200601T173024Z
LAST-MODIFIED:20200601T173024Z
UID:4270-1594918800-1594936800@rlrgc.com
SUMMARY:2020 Summer Trap League: Wk 4
DESCRIPTION:2020 Summer Trap League: Wk 4
URL:https://rlrgc.com/calendar/2020-summer-trap-league-wk-4/
END:VEVENT
BEGIN:VEVENT
DTSTART;TZID=America/Chicago:20200715T170000
DTEND;TZID=America/Chicago:20200715T210000
DTSTAMP:20260420T213741
CREATED:20200615T172835Z
LAST-MODIFIED:20200615T172835Z
UID:4355-1594832400-1594846800@rlrgc.com
SUMMARY:Open Shoot / 5pm - 9 pm
DESCRIPTION:Open Shoot / 5pm – 9 pm
URL:https://rlrgc.com/calendar/open-shoot-5pm-9-pm-5/
END:VEVENT
END:VCALENDAR