BEGIN:VCALENDAR
VERSION:2.0
PRODID:-//Random Lake Rod &amp; Gun Club - ECPv6.15.9//NONSGML v1.0//EN
CALSCALE:GREGORIAN
METHOD:PUBLISH
X-WR-CALNAME:Random Lake Rod &amp; Gun Club
X-ORIGINAL-URL:https://rlrgc.com
X-WR-CALDESC:Events for Random Lake Rod &amp; Gun Club
REFRESH-INTERVAL;VALUE=DURATION:PT1H
X-Robots-Tag:noindex
X-PUBLISHED-TTL:PT1H
BEGIN:VTIMEZONE
TZID:America/Chicago
BEGIN:DAYLIGHT
TZOFFSETFROM:-0600
TZOFFSETTO:-0500
TZNAME:CDT
DTSTART:20200308T080000
END:DAYLIGHT
BEGIN:STANDARD
TZOFFSETFROM:-0500
TZOFFSETTO:-0600
TZNAME:CST
DTSTART:20201101T070000
END:STANDARD
BEGIN:DAYLIGHT
TZOFFSETFROM:-0600
TZOFFSETTO:-0500
TZNAME:CDT
DTSTART:20210314T080000
END:DAYLIGHT
BEGIN:STANDARD
TZOFFSETFROM:-0500
TZOFFSETTO:-0600
TZNAME:CST
DTSTART:20211107T070000
END:STANDARD
BEGIN:DAYLIGHT
TZOFFSETFROM:-0600
TZOFFSETTO:-0500
TZNAME:CDT
DTSTART:20220313T080000
END:DAYLIGHT
BEGIN:STANDARD
TZOFFSETFROM:-0500
TZOFFSETTO:-0600
TZNAME:CST
DTSTART:20221106T070000
END:STANDARD
END:VTIMEZONE
BEGIN:VEVENT
DTSTART;VALUE=DATE:20211106
DTEND;VALUE=DATE:20211107
DTSTAMP:20260419T193536
CREATED:20211026T125847Z
LAST-MODIFIED:20211026T125847Z
UID:5107-1636156800-1636243199@rlrgc.com
SUMMARY:Club Closed (BR) Private Event Nov 6
DESCRIPTION:Club Closed (BR) Private Event Nov 6
URL:https://rlrgc.com/calendar/club-closed-br-private-event-nov-6/
END:VEVENT
BEGIN:VEVENT
DTSTART;TZID=America/Chicago:20211018T173000
DTEND;TZID=America/Chicago:20211018T220000
DTSTAMP:20260419T193536
CREATED:20210316T011551Z
LAST-MODIFIED:20210316T011551Z
UID:4777-1634578200-1634594400@rlrgc.com
SUMMARY:Private Club Rental:  RL Garden Club
DESCRIPTION:Private Club Rental:  RL Garden Club
URL:https://rlrgc.com/calendar/private-club-rental-rl-garden-club-6/
END:VEVENT
BEGIN:VEVENT
DTSTART;VALUE=DATE:20211016
DTEND;VALUE=DATE:20211017
DTSTAMP:20260419T193536
CREATED:20211026T130803Z
LAST-MODIFIED:20211026T131342Z
UID:5128-1634342400-1634428799@rlrgc.com
SUMMARY:Club Closed (JS) Private Event Oct 16
DESCRIPTION:Club Closed (JS) Private Event Oct 16
URL:https://rlrgc.com/calendar/club-closed-js-private-event-oct-16/
END:VEVENT
BEGIN:VEVENT
DTSTART;TZID=America/Chicago:20211014T193000
DTEND;TZID=America/Chicago:20211014T213000
DTSTAMP:20260419T193536
CREATED:20210823T182254Z
LAST-MODIFIED:20210823T182254Z
UID:5085-1634239800-1634247000@rlrgc.com
SUMMARY:October 2021 Monthly Club Meeting
DESCRIPTION:October 2021 Monthly Club Meeting @ 7: 30 pm
URL:https://rlrgc.com/calendar/october-2021-monthly-club-meeting/
END:VEVENT
BEGIN:VEVENT
DTSTART;VALUE=DATE:20211009
DTEND;VALUE=DATE:20211010
DTSTAMP:20260419T193536
CREATED:20211026T130052Z
LAST-MODIFIED:20211026T130427Z
UID:5110-1633737600-1633823999@rlrgc.com
SUMMARY:Club Closed (SK) Private Event Oct 9
DESCRIPTION:Club Closed (SK) Private Event Oct 9
URL:https://rlrgc.com/calendar/club-closed-sk-private-event-oct-9/
END:VEVENT
BEGIN:VEVENT
DTSTART;TZID=America/Chicago:20210920T180000
DTEND;TZID=America/Chicago:20210920T220000
DTSTAMP:20260419T193536
CREATED:20210316T011505Z
LAST-MODIFIED:20210316T011505Z
UID:4774-1632160800-1632175200@rlrgc.com
SUMMARY:Private Club Rental:  RL Garden Club
DESCRIPTION:Private Club Rental:  RL Garden Club
URL:https://rlrgc.com/calendar/private-club-rental-rl-garden-club-5/
END:VEVENT
BEGIN:VEVENT
DTSTART;TZID=America/Chicago:20210909T193000
DTEND;TZID=America/Chicago:20210909T213000
DTSTAMP:20260419T193536
CREATED:20210823T182114Z
LAST-MODIFIED:20210823T182114Z
UID:5082-1631215800-1631223000@rlrgc.com
SUMMARY:September 2021 Monthly Club Meeting
DESCRIPTION:September 2021 Monthly Club Meeting @ 7:30 pm
URL:https://rlrgc.com/calendar/september-2021-monthly-club-meeting/
END:VEVENT
BEGIN:VEVENT
DTSTART;TZID=America/Chicago:20210826T170000
DTEND;TZID=America/Chicago:20210826T220000
DTSTAMP:20260419T193536
CREATED:20210425T173419Z
LAST-MODIFIED:20210425T173419Z
UID:4942-1629997200-1630015200@rlrgc.com
SUMMARY:Thursday Summer Trap League / Bust Up Party
DESCRIPTION:
URL:https://rlrgc.com/calendar/thursday-summer-trap-league-bust-up-party/
END:VEVENT
BEGIN:VEVENT
DTSTART;VALUE=DATE:20210826
DTEND;VALUE=DATE:20210827
DTSTAMP:20260419T193536
CREATED:20210316T020403Z
LAST-MODIFIED:20210316T020403Z
UID:4859-1629936000-1630022399@rlrgc.com
SUMMARY:Trap
DESCRIPTION:Trap
URL:https://rlrgc.com/calendar/trap-4/
END:VEVENT
BEGIN:VEVENT
DTSTART;TZID=America/Chicago:20210822T090000
DTEND;TZID=America/Chicago:20210822T150000
DTSTAMP:20260419T193536
CREATED:20210119T183751Z
LAST-MODIFIED:20210119T183751Z
UID:4687-1629622800-1629644400@rlrgc.com
SUMMARY:75 Bird Lewis Shoot - Aug 22
DESCRIPTION:75 Bird Lewis Shoot – Aug 22 \nRegistration: 9:00am – 2:45pm \nAll targets are shot from 16-yard line.
URL:https://rlrgc.com/calendar/75-bird-lewis-shoot-aug-22/
END:VEVENT
BEGIN:VEVENT
DTSTART;TZID=America/Chicago:20210819T080000
DTEND;TZID=America/Chicago:20210819T170000
DTSTAMP:20260419T193536
CREATED:20210425T173320Z
LAST-MODIFIED:20210425T173320Z
UID:4939-1629360000-1629392400@rlrgc.com
SUMMARY:Thursday Summer Trap League / Last Day
DESCRIPTION:
URL:https://rlrgc.com/calendar/thursday-summer-trap-league-last-day/
END:VEVENT
BEGIN:VEVENT
DTSTART;TZID=America/Chicago:20210819T080000
DTEND;TZID=America/Chicago:20210819T170000
DTSTAMP:20260419T193536
CREATED:20210316T020223Z
LAST-MODIFIED:20210316T020315Z
UID:4856-1629360000-1629392400@rlrgc.com
SUMMARY:Trap
DESCRIPTION:Trap
URL:https://rlrgc.com/calendar/trap-3/
END:VEVENT
BEGIN:VEVENT
DTSTART;TZID=America/Chicago:20210817T170000
DTEND;TZID=America/Chicago:20210817T220000
DTSTAMP:20260419T193536
CREATED:20210430T012540Z
LAST-MODIFIED:20210430T012704Z
UID:5013-1629219600-1629237600@rlrgc.com
SUMMARY:Tuesday Summer Trap League / Bust Up Party
DESCRIPTION:
URL:https://rlrgc.com/calendar/tuesday-summer-trap-league-10/
END:VEVENT
BEGIN:VEVENT
DTSTART;TZID=America/Chicago:20210816T173000
DTEND;TZID=America/Chicago:20210816T220000
DTSTAMP:20260419T193536
CREATED:20210316T011415Z
LAST-MODIFIED:20210316T011415Z
UID:4771-1629135000-1629151200@rlrgc.com
SUMMARY:Private Club Rental:  RL Garden Club
DESCRIPTION:  \nPrivate Club Rental:  RL Garden Club
URL:https://rlrgc.com/calendar/private-club-rental-rl-garden-club-4/
END:VEVENT
BEGIN:VEVENT
DTSTART;TZID=America/Chicago:20210812T170000
DTEND;TZID=America/Chicago:20210812T220000
DTSTAMP:20260419T193536
CREATED:20210425T173145Z
LAST-MODIFIED:20210425T173145Z
UID:4936-1628787600-1628805600@rlrgc.com
SUMMARY:Thursday Summer Trap League
DESCRIPTION:
URL:https://rlrgc.com/calendar/thursday-summer-trap-league-11/
END:VEVENT
BEGIN:VEVENT
DTSTART;VALUE=DATE:20210812
DTEND;VALUE=DATE:20210813
DTSTAMP:20260419T193536
CREATED:20210316T020142Z
LAST-MODIFIED:20210316T020142Z
UID:4853-1628726400-1628812799@rlrgc.com
SUMMARY:Trap
DESCRIPTION:Trap
URL:https://rlrgc.com/calendar/trap-2/
END:VEVENT
BEGIN:VEVENT
DTSTART;TZID=America/Chicago:20210811T193000
DTEND;TZID=America/Chicago:20210811T193000
DTSTAMP:20260419T193536
CREATED:20200323T180843Z
LAST-MODIFIED:20210611T173744Z
UID:4235-1628710200-1628710200@rlrgc.com
SUMMARY:August 2021 Monthly Club Meeting
DESCRIPTION:August 2021 Monthly Club Meeting
URL:https://rlrgc.com/calendar/august-2021-monthly-club-meeting/
END:VEVENT
BEGIN:VEVENT
DTSTART;TZID=America/Chicago:20210810T170000
DTEND;TZID=America/Chicago:20210810T220000
DTSTAMP:20260419T193536
CREATED:20210430T012739Z
LAST-MODIFIED:20210430T012739Z
UID:5018-1628614800-1628632800@rlrgc.com
SUMMARY:Tuesday Summer Trap League / Last Day
DESCRIPTION:
URL:https://rlrgc.com/calendar/tuesday-summer-trap-league-last-day-2/
END:VEVENT
BEGIN:VEVENT
DTSTART;TZID=America/Chicago:20210805T170000
DTEND;TZID=America/Chicago:20210805T220000
DTSTAMP:20260419T193536
CREATED:20210425T173041Z
LAST-MODIFIED:20210425T173041Z
UID:4933-1628182800-1628200800@rlrgc.com
SUMMARY:Thursday Summer Trap League
DESCRIPTION:
URL:https://rlrgc.com/calendar/thursday-summer-trap-league-10/
END:VEVENT
BEGIN:VEVENT
DTSTART;VALUE=DATE:20210805
DTEND;VALUE=DATE:20210806
DTSTAMP:20260419T193536
CREATED:20210316T020049Z
LAST-MODIFIED:20210316T020109Z
UID:4850-1628121600-1628207999@rlrgc.com
SUMMARY:Trap
DESCRIPTION:Trap
URL:https://rlrgc.com/calendar/trap/
END:VEVENT
BEGIN:VEVENT
DTSTART;TZID=America/Chicago:20210803T170000
DTEND;TZID=America/Chicago:20210803T220000
DTSTAMP:20260419T193536
CREATED:20210430T012342Z
LAST-MODIFIED:20210430T012342Z
UID:5007-1628010000-1628028000@rlrgc.com
SUMMARY:Tuesday Summer Trap League
DESCRIPTION:
URL:https://rlrgc.com/calendar/tuesday-summer-trap-league-9/
END:VEVENT
BEGIN:VEVENT
DTSTART;VALUE=DATE:20210731
DTEND;VALUE=DATE:20210801
DTSTAMP:20260419T193536
CREATED:20211026T130716Z
LAST-MODIFIED:20211026T130948Z
UID:5125-1627689600-1627775999@rlrgc.com
SUMMARY:Club Closed (DH) Private Event July 31
DESCRIPTION:Club Closed (DH) Private Event July 31
URL:https://rlrgc.com/calendar/club-closed-dh-private-event-july-31/
END:VEVENT
BEGIN:VEVENT
DTSTART;TZID=America/Chicago:20210729T170000
DTEND;TZID=America/Chicago:20210729T220000
DTSTAMP:20260419T193536
CREATED:20210425T172816Z
LAST-MODIFIED:20210425T172816Z
UID:4930-1627578000-1627596000@rlrgc.com
SUMMARY:Thursday Summer Trap League
DESCRIPTION:
URL:https://rlrgc.com/calendar/thursday-summer-trap-league-9/
END:VEVENT
BEGIN:VEVENT
DTSTART;VALUE=DATE:20210729
DTEND;VALUE=DATE:20210730
DTSTAMP:20260419T193536
CREATED:20210316T015833Z
LAST-MODIFIED:20210316T020436Z
UID:4847-1627516800-1627603199@rlrgc.com
SUMMARY:Trap
DESCRIPTION:Trap
URL:https://rlrgc.com/calendar/trap-wk9/
END:VEVENT
BEGIN:VEVENT
DTSTART;TZID=America/Chicago:20210727T170000
DTEND;TZID=America/Chicago:20210727T220000
DTSTAMP:20260419T193536
CREATED:20210430T012310Z
LAST-MODIFIED:20210430T012310Z
UID:5004-1627405200-1627423200@rlrgc.com
SUMMARY:Tuesday Summer Trap League
DESCRIPTION:
URL:https://rlrgc.com/calendar/tuesday-summer-trap-league-8/
END:VEVENT
BEGIN:VEVENT
DTSTART;TZID=America/Chicago:20210722T170000
DTEND;TZID=America/Chicago:20210722T220000
DTSTAMP:20260419T193536
CREATED:20210425T172725Z
LAST-MODIFIED:20210425T172744Z
UID:4927-1626973200-1626991200@rlrgc.com
SUMMARY:Thursday Summer Trap League
DESCRIPTION:
URL:https://rlrgc.com/calendar/thursday-summer-trap-league-8/
END:VEVENT
BEGIN:VEVENT
DTSTART;VALUE=DATE:20210722
DTEND;VALUE=DATE:20210723
DTSTAMP:20260419T193536
CREATED:20210316T015805Z
LAST-MODIFIED:20210316T020505Z
UID:4844-1626912000-1626998399@rlrgc.com
SUMMARY:Trap
DESCRIPTION:Trap
URL:https://rlrgc.com/calendar/trap-wk8/
END:VEVENT
BEGIN:VEVENT
DTSTART;TZID=America/Chicago:20210720T170000
DTEND;TZID=America/Chicago:20210720T220000
DTSTAMP:20260419T193536
CREATED:20210430T012238Z
LAST-MODIFIED:20210430T012238Z
UID:5001-1626800400-1626818400@rlrgc.com
SUMMARY:Tuesday Summer Trap League
DESCRIPTION:
URL:https://rlrgc.com/calendar/tuesday-summer-trap-league-7/
END:VEVENT
BEGIN:VEVENT
DTSTART;TZID=America/Chicago:20210719T180000
DTEND;TZID=America/Chicago:20210719T220000
DTSTAMP:20260419T193536
CREATED:20210316T011338Z
LAST-MODIFIED:20210316T011338Z
UID:4768-1626717600-1626732000@rlrgc.com
SUMMARY:Private Club Rental:  RL Garden Club
DESCRIPTION:Private Club Rental:  RL Garden Club
URL:https://rlrgc.com/calendar/private-club-rental-rl-garden-club-3/
END:VEVENT
BEGIN:VEVENT
DTSTART;TZID=America/Chicago:20210715T170000
DTEND;TZID=America/Chicago:20210715T220000
DTSTAMP:20260419T193536
CREATED:20210425T172554Z
LAST-MODIFIED:20210425T172554Z
UID:4924-1626368400-1626386400@rlrgc.com
SUMMARY:Thursday Summer Trap League
DESCRIPTION:
URL:https://rlrgc.com/calendar/thursday-summer-trap-league-7/
END:VEVENT
END:VCALENDAR