BEGIN:VCALENDAR
VERSION:2.0
PRODID:-//Random Lake Rod &amp; Gun Club - ECPv6.15.9//NONSGML v1.0//EN
CALSCALE:GREGORIAN
METHOD:PUBLISH
X-WR-CALNAME:Random Lake Rod &amp; Gun Club
X-ORIGINAL-URL:https://rlrgc.com
X-WR-CALDESC:Events for Random Lake Rod &amp; Gun Club
REFRESH-INTERVAL;VALUE=DURATION:PT1H
X-Robots-Tag:noindex
X-PUBLISHED-TTL:PT1H
BEGIN:VTIMEZONE
TZID:America/Chicago
BEGIN:DAYLIGHT
TZOFFSETFROM:-0600
TZOFFSETTO:-0500
TZNAME:CDT
DTSTART:20200308T080000
END:DAYLIGHT
BEGIN:STANDARD
TZOFFSETFROM:-0500
TZOFFSETTO:-0600
TZNAME:CST
DTSTART:20201101T070000
END:STANDARD
BEGIN:DAYLIGHT
TZOFFSETFROM:-0600
TZOFFSETTO:-0500
TZNAME:CDT
DTSTART:20210314T080000
END:DAYLIGHT
BEGIN:STANDARD
TZOFFSETFROM:-0500
TZOFFSETTO:-0600
TZNAME:CST
DTSTART:20211107T070000
END:STANDARD
BEGIN:DAYLIGHT
TZOFFSETFROM:-0600
TZOFFSETTO:-0500
TZNAME:CDT
DTSTART:20220313T080000
END:DAYLIGHT
BEGIN:STANDARD
TZOFFSETFROM:-0500
TZOFFSETTO:-0600
TZNAME:CST
DTSTART:20221106T070000
END:STANDARD
END:VTIMEZONE
BEGIN:VEVENT
DTSTART;TZID=America/Chicago:20210525T170000
DTEND;TZID=America/Chicago:20210525T220000
DTSTAMP:20260419T212047
CREATED:20210430T011825Z
LAST-MODIFIED:20210430T011825Z
UID:4980-1621962000-1621980000@rlrgc.com
SUMMARY:Tuesday Summer Trap League Starts
DESCRIPTION:
URL:https://rlrgc.com/calendar/tuesday-summer-trap-league-starts/
END:VEVENT
BEGIN:VEVENT
DTSTART;TZID=America/Chicago:20210518T180000
DTEND;TZID=America/Chicago:20210518T203000
DTSTAMP:20260419T212047
CREATED:20210322T223728Z
LAST-MODIFIED:20210322T223728Z
UID:4881-1621360800-1621369800@rlrgc.com
SUMMARY:Concealed Carry Mindset - Tuesday\, May 18 6:00pm - 8:30pm
DESCRIPTION:Tuesday\, May 18:  Concealed Carry Mindset  6-8:30 PM \n\nMany women come into gun ownership with the primary purpose of protecting themselves. \nWe welcome you to the mindset of becoming your own first responder by carrying a handgun and taking charge of your personal safety and the safety of your loved ones.\n-Conceal carry options (holsters\, belly-bands\, purses..) will be available to try.\n-We will discuss the steps to take to conceal carry\, the mindset & lifestyle.\n-We will also practice drawing from concealment.\nDO NOT BRING AMMO to this class!\nThis class is not sufficient to apply for your concealed carry permit.\nCost: AGAG members 10.00 Non members 20.00\nLocation: Random Lake Rod & Gun Club\nSpace is limited\nPlease review the available slots below and click on the button to sign up. Thank you!\nhttps://www.signupgenius.
URL:https://rlrgc.com/calendar/concealed-carry-mindset-tuesday-may-18-600pm-830pm/
END:VEVENT
BEGIN:VEVENT
DTSTART;TZID=America/Chicago:20210513T193000
DTEND;TZID=America/Chicago:20210513T213000
DTSTAMP:20260419T212047
CREATED:20200323T180620Z
LAST-MODIFIED:20200323T181423Z
UID:4226-1620934200-1620941400@rlrgc.com
SUMMARY:May 2021 Monthly Club Meeting
DESCRIPTION:May 2021 Monthly Club Meeting
URL:https://rlrgc.com/calendar/may-2021-monthly-club-meeting/
END:VEVENT
BEGIN:VEVENT
DTSTART;TZID=America/Chicago:20210506T153000
DTEND;TZID=America/Chicago:20210506T220000
DTSTAMP:20260419T212047
CREATED:20210316T012101Z
LAST-MODIFIED:20210316T012917Z
UID:4792-1620315000-1620338400@rlrgc.com
SUMMARY:RL School Trap
DESCRIPTION:RL School Trap
URL:https://rlrgc.com/calendar/rl-school-trap-3/
END:VEVENT
BEGIN:VEVENT
DTSTART;TZID=America/Chicago:20210501T090000
DTEND;TZID=America/Chicago:20210501T150000
DTSTAMP:20260419T212047
CREATED:20210119T183902Z
LAST-MODIFIED:20210119T183902Z
UID:4690-1619859600-1619881200@rlrgc.com
SUMMARY:50 Bird Lewis Shoot - May 1
DESCRIPTION:50 Bird Lewis Shoot – May 1 \nRegistration: 9:00am – 2:45pm. \nAll targets are shot from 16-yard line.
URL:https://rlrgc.com/calendar/50-bird-lewis-shoot-may-1/
END:VEVENT
BEGIN:VEVENT
DTSTART;TZID=America/Chicago:20210429T153000
DTEND;TZID=America/Chicago:20210429T220000
DTSTAMP:20260419T212047
CREATED:20210316T012220Z
LAST-MODIFIED:20210316T012611Z
UID:4798-1619710200-1619733600@rlrgc.com
SUMMARY:RL School Trap
DESCRIPTION:RL School Trap
URL:https://rlrgc.com/calendar/rl-school-trap-5/
END:VEVENT
BEGIN:VEVENT
DTSTART;TZID=America/Chicago:20210429T080000
DTEND;TZID=America/Chicago:20210429T170000
DTSTAMP:20260419T212047
CREATED:20210430T012440Z
LAST-MODIFIED:20210430T012440Z
UID:5010-1619683200-1619715600@rlrgc.com
SUMMARY:Tuesday Summer Trap League / Last Day
DESCRIPTION:
URL:https://rlrgc.com/calendar/tuesday-summer-trap-league-last-day/
END:VEVENT
BEGIN:VEVENT
DTSTART;TZID=America/Chicago:20210422T153000
DTEND;TZID=America/Chicago:20210422T220000
DTSTAMP:20260419T212047
CREATED:20210316T012452Z
LAST-MODIFIED:20210316T012452Z
UID:4810-1619105400-1619128800@rlrgc.com
SUMMARY:RL School Trap
DESCRIPTION:RL School Trap
URL:https://rlrgc.com/calendar/rl-school-trap-9/
END:VEVENT
BEGIN:VEVENT
DTSTART;TZID=America/Chicago:20210420T180000
DTEND;TZID=America/Chicago:20210420T200000
DTSTAMP:20260419T212047
CREATED:20210322T223450Z
LAST-MODIFIED:20210322T223450Z
UID:4878-1618941600-1618948800@rlrgc.com
SUMMARY:Personal Self Defense & De-Escalation with Officer Paul Schneider (Non-shooting) - Tuesday\, Apr 20 6:00 – 8:00 p.m.
DESCRIPTION:FULL- Tuesday\, Apr 20 6:00 – 8:00 p.m. – Personal Self Defense & De-Escalation with Officer Paul Schneider (Non-shooting)\nOfficer Paul Schneider will provide interactive\, hands-on training in self-defense and de-escalation techniques for women. Limit of 20 attendees; members preferred registration until April 1. \nHost: Starla Batzko (920) 747-0288 \nCost: $10 AG & AG Members; $20 non-members; cash or check only\nWhere: Random Lake Rod & Gun Club\, W3315 Jay Road\, Belgium\, WI 53004
URL:https://rlrgc.com/calendar/personal-self-defense-de-escalation-with-officer-paul-schneider-non-shooting-tuesday-apr-20-600-800-p-m/
END:VEVENT
BEGIN:VEVENT
DTSTART;TZID=America/Chicago:20210419T180000
DTEND;TZID=America/Chicago:20210419T220000
DTSTAMP:20260419T212047
CREATED:20210316T011153Z
LAST-MODIFIED:20210316T011153Z
UID:4762-1618855200-1618869600@rlrgc.com
SUMMARY:Private Club Rental:  RL Garden Club
DESCRIPTION:Private Club Rental:  RL Garden Club \n 
URL:https://rlrgc.com/calendar/private-club-rental-rl-garden-club/
END:VEVENT
BEGIN:VEVENT
DTSTART;TZID=America/Chicago:20210417T080000
DTEND;TZID=America/Chicago:20210417T170000
DTSTAMP:20260419T212047
CREATED:20210316T015032Z
LAST-MODIFIED:20210316T015032Z
UID:4814-1618646400-1618678800@rlrgc.com
SUMMARY:Club Closed (BT) Private Event Apr 17
DESCRIPTION:Club Closed (BT) Private Event Apr 17
URL:https://rlrgc.com/calendar/club-closed-bt-private-event-apr-17/
END:VEVENT
BEGIN:VEVENT
DTSTART;TZID=America/Chicago:20210415T153000
DTEND;TZID=America/Chicago:20210415T220000
DTSTAMP:20260419T212047
CREATED:20210316T012413Z
LAST-MODIFIED:20210316T012413Z
UID:4807-1618500600-1618524000@rlrgc.com
SUMMARY:RL School Trap
DESCRIPTION:RL School Trap
URL:https://rlrgc.com/calendar/rl-school-trap-8/
END:VEVENT
BEGIN:VEVENT
DTSTART;TZID=America/Chicago:20210412T180000
DTEND;TZID=America/Chicago:20210412T203000
DTSTAMP:20260419T212047
CREATED:20210129T181140Z
LAST-MODIFIED:20210129T181544Z
UID:4735-1618250400-1618259400@rlrgc.com
SUMMARY:Hunter Education Class
DESCRIPTION:Attendance is required for all 5 classes to complete the course.\nApr 1: 6:00 pm – 8:30 pm\nApr 5: 6:00 pm – 8:30 pm\nApr 8: 6:00 pm – 8:30 pm\nApr 10: 8:00 am – 12:00 pm\nApr 12: 6:00 pm – 8:30 pm \nHunter Safety Education Class. $10.\nRegistration deadline is March 15\, 2021.\nAttendance is required for all 5 classes to complete the course.\nClass is limited to 20.\nA registered DNR number is required prior to signing up for the class. If a number is needed\, call WI DNR at 888-936-7463.\nTo register -Email rlrgc.secretary@gmail.com.\nInstructors are Scott Zimdars and Theresa Winter.
URL:https://rlrgc.com/calendar/hunter-education-class-5/
END:VEVENT
BEGIN:VEVENT
DTSTART;TZID=America/Chicago:20210411T130000
DTEND;TZID=America/Chicago:20210411T170000
DTSTAMP:20260419T212047
CREATED:20210322T223302Z
LAST-MODIFIED:20210322T223302Z
UID:4875-1618146000-1618160400@rlrgc.com
SUMMARY:Pistol Handling Fundamentals (Non-Shooting) - Sunday\, Apr 11 2:00 - 4:00 p.m.
DESCRIPTION:Pistol Handling Fundamentals (Non-Shooting) – Sunday\, Apr 11 2:00 – 4:00 p.m.\nThink of it as First Shots Part 2! That first experience shooting a pistol with live ammo was probably fun\, a little scary\, and way too much to absorb in an hour. This is your opportunity to get more comfortable with all the nuances of loading\, unloading\, handling\, dry firing\, transporting\, and a myriad of other things as you continue on your journey. We will do all this in a safe\, non-shooting setting. You can bring your own gun but NO AMMO allowed. \nHost: Starla Batzko (920) 747-0288 \nCost: $10 AG & AG Members; $25 non-members; cash or check only\nWhere: Random Lake Rod & Gun Club\, W3315 Jay Road\, Belgium\, WI 53004\nInfo: Sign up today!
URL:https://rlrgc.com/calendar/pistol-handling-fundamentals-non-shooting-sunday-apr-11-200-400-p-m/
END:VEVENT
BEGIN:VEVENT
DTSTART;TZID=America/Chicago:20210411T080000
DTEND;TZID=America/Chicago:20210411T130000
DTSTAMP:20260419T212047
CREATED:20210322T223058Z
LAST-MODIFIED:20210322T223058Z
UID:4872-1618128000-1618146000@rlrgc.com
SUMMARY:WI Concealed Carry - Apr 11 from 9:00 a.m. - noon
DESCRIPTION:Wisconsin Concealed Carry – Sunday\, Apr 11 from 9:00 a.m. – noon\nThis class meets and exceed the requirements for your Wisconsin Concealed Carry Permit.\nSpace is limited. Instructor: Starla Batzko. (920) 747-0288\nCost: $40 AG & AG Members (enter code AGAG for discount); $50 non-members;\nWhere: Random Lake Rod & Gun Club\, W3315 Jay Road\, Belgium\, WI 53004\nInfo: More info and registration at https://www.equalizer-defense.com/classes/wisconsin-concealed-carry-class/
URL:https://rlrgc.com/calendar/wi-concealed-carry-apr-11-from-900-a-m-noon/
END:VEVENT
BEGIN:VEVENT
DTSTART;TZID=America/Chicago:20210410T080000
DTEND;TZID=America/Chicago:20210410T120000
DTSTAMP:20260419T212047
CREATED:20210129T181055Z
LAST-MODIFIED:20210129T181710Z
UID:4732-1618041600-1618056000@rlrgc.com
SUMMARY:Hunter Education Class
DESCRIPTION:Attendance is required for all 5 classes to complete the course.\nApr 1: 6:00 pm – 8:30 pm\nApr 5: 6:00 pm – 8:30 pm\nApr 8: 6:00 pm – 8:30 pm\nApr 10: 8:00 am – 12:00 pm\nApr 12: 6:00 pm – 8:30 pm \nHunter Safety Education Class. $10.\nRegistration deadline is March 15\, 2021.\nAttendance is required for all 5 classes to complete the course.\nClass is limited to 20.\nA registered DNR number is required prior to signing up for the class. If a number is needed\, call WI DNR at 888-936-7463.\nTo register -Email rlrgc.secretary@gmail.com.\nInstructors are Scott Zimdars and Theresa Winter.
URL:https://rlrgc.com/calendar/hunter-education-class-4/
END:VEVENT
BEGIN:VEVENT
DTSTART;TZID=America/Chicago:20210408T193000
DTEND;TZID=America/Chicago:20210408T213000
DTSTAMP:20260419T212047
CREATED:20200323T180544Z
LAST-MODIFIED:20200323T181451Z
UID:4223-1617910200-1617917400@rlrgc.com
SUMMARY:April 2021 Monthly Club Meeting
DESCRIPTION:April 2021 Monthly Club Meeting
URL:https://rlrgc.com/calendar/april-2021-monthly-club-meeting/
END:VEVENT
BEGIN:VEVENT
DTSTART;TZID=America/Chicago:20210408T180000
DTEND;TZID=America/Chicago:20210408T203000
DTSTAMP:20260419T212047
CREATED:20210129T181008Z
LAST-MODIFIED:20210129T181753Z
UID:4729-1617904800-1617913800@rlrgc.com
SUMMARY:Hunter Education Class
DESCRIPTION:Attendance is required for all 5 classes to complete the course.\nApr 1: 6:00 pm – 8:30 pm\nApr 5: 6:00 pm – 8:30 pm\nApr 8: 6:00 pm – 8:30 pm\nApr 10: 8:00 am – 12:00 pm\nApr 12: 6:00 pm – 8:30 pm \nHunter Safety Education Class. $10.\nRegistration deadline is March 15\, 2021.\nAttendance is required for all 5 classes to complete the course.\nClass is limited to 20.\nA registered DNR number is required prior to signing up for the class. If a number is needed\, call WI DNR at 888-936-7463.\nTo register -Email rlrgc.secretary@gmail.com.\nInstructors are Scott Zimdars and Theresa Winter.
URL:https://rlrgc.com/calendar/hunter-education-class-3/
END:VEVENT
BEGIN:VEVENT
DTSTART;TZID=America/Chicago:20210407T153000
DTEND;TZID=America/Chicago:20210407T220000
DTSTAMP:20260419T212047
CREATED:20210316T012254Z
LAST-MODIFIED:20210316T012254Z
UID:4801-1617809400-1617832800@rlrgc.com
SUMMARY:RL School Trap
DESCRIPTION:RL School Trap
URL:https://rlrgc.com/calendar/rl-school-trap-6/
END:VEVENT
BEGIN:VEVENT
DTSTART;TZID=America/Chicago:20210405T180000
DTEND;TZID=America/Chicago:20210405T203000
DTSTAMP:20260419T212047
CREATED:20210129T180911Z
LAST-MODIFIED:20210129T181827Z
UID:4726-1617645600-1617654600@rlrgc.com
SUMMARY:Hunter Education Class
DESCRIPTION:Attendance is required for all 5 classes to complete the course.\nApr 1: 6:00 pm – 8:30 pm\nApr 5: 6:00 pm – 8:30 pm\nApr 8: 6:00 pm – 8:30 pm\nApr 10: 8:00 am – 12:00 pm\nApr 12: 6:00 pm – 8:30 pm \nHunter Safety Education Class. $10.\nRegistration deadline is March 15\, 2021.\nAttendance is required for all 5 classes to complete the course.\nClass is limited to 20.\nA registered DNR number is required prior to signing up for the class. If a number is needed\, call WI DNR at 888-936-7463.\nTo register -Email rlrgc.secretary@gmail.com.\nInstructors are Scott Zimdars and Theresa Winter.
URL:https://rlrgc.com/calendar/hunter-education-class-2/
END:VEVENT
BEGIN:VEVENT
DTSTART;TZID=America/Chicago:20210401T180000
DTEND;TZID=America/Chicago:20210401T203000
DTSTAMP:20260419T212047
CREATED:20210129T180811Z
LAST-MODIFIED:20210129T181859Z
UID:4721-1617300000-1617309000@rlrgc.com
SUMMARY:Hunter Education Class
DESCRIPTION:Attendance is required for all 5 classes to complete the course.\nApr 1: 6:00 pm – 8:30 pm\nApr 5: 6:00 pm – 8:30 pm\nApr 8: 6:00 pm – 8:30 pm\nApr 10: 8:00 am – 12:00 pm\nApr 12: 6:00 pm – 8:30 pm \nHunter Safety Education Class. $10.\nRegistration deadline is March 15\, 2021.\nAttendance is required for all 5 classes to complete the course.\nClass is limited to 20.\nA registered DNR number is required prior to signing up for the class. If a number is needed\, call WI DNR at 888-936-7463.\nTo register -Email rlrgc.secretary@gmail.com.\nInstructors are Scott Zimdars and Theresa Winter.
URL:https://rlrgc.com/calendar/hunter-education-class/
END:VEVENT
BEGIN:VEVENT
DTSTART;TZID=America/Chicago:20210331T153000
DTEND;TZID=America/Chicago:20210331T220000
DTSTAMP:20260419T212047
CREATED:20210316T012149Z
LAST-MODIFIED:20210316T012149Z
UID:4795-1617204600-1617228000@rlrgc.com
SUMMARY:RL School Trap
DESCRIPTION:RL School Trap
URL:https://rlrgc.com/calendar/rl-school-trap-4/
END:VEVENT
BEGIN:VEVENT
DTSTART;TZID=America/Chicago:20210325T033000
DTEND;TZID=America/Chicago:20210325T220000
DTSTAMP:20260419T212047
CREATED:20210316T012027Z
LAST-MODIFIED:20210316T012027Z
UID:4789-1616643000-1616709600@rlrgc.com
SUMMARY:RL School Trap
DESCRIPTION:RL School Trap
URL:https://rlrgc.com/calendar/rl-school-trap-2/
END:VEVENT
BEGIN:VEVENT
DTSTART;TZID=America/Chicago:20210324T170000
DTEND;TZID=America/Chicago:20210324T220000
DTSTAMP:20260419T212047
CREATED:20201201T024121Z
LAST-MODIFIED:20201201T024121Z
UID:4636-1616605200-1616623200@rlrgc.com
SUMMARY:Wednesday Archery League (Jan 6 - Mar 24\, 2021)
DESCRIPTION:Wednesday Archery League (Jan 6 – Mar 24\, 2021) \nLeague Time: 5pm – 10pm \nFormat: 3D archery\, 2 person teams and 14 targets/28 arrows
URL:https://rlrgc.com/calendar/wednesday-archery-league-jan-6-mar-24-2021-13/
END:VEVENT
BEGIN:VEVENT
DTSTART;TZID=America/Chicago:20210323T050000
DTEND;TZID=America/Chicago:20210323T220000
DTSTAMP:20260419T212047
CREATED:20201201T023047Z
LAST-MODIFIED:20201201T023047Z
UID:4597-1616475600-1616536800@rlrgc.com
SUMMARY:Tuesday Archery League (Jan 5 - Mar 23\, 2021)
DESCRIPTION:Tuesday Archery League (Jan 5 – Mar 23\, 2021) \nLeague Time: 5pm – 10pm \nFormat: 3D archery\, 2 person teams and 14 targets/28 arrows
URL:https://rlrgc.com/calendar/tuesday-archery-league-jan-5-mar-23-2021-13/
END:VEVENT
BEGIN:VEVENT
DTSTART;TZID=America/Chicago:20210322T170000
DTEND;TZID=America/Chicago:20210322T220000
DTSTAMP:20260419T212047
CREATED:20201201T021850Z
LAST-MODIFIED:20201201T021850Z
UID:4556-1616432400-1616450400@rlrgc.com
SUMMARY:Monday Archery League (Jan 4 - Mar 22\, 2021)
DESCRIPTION:Monday Archery League (Jan 4 – Mar 22\, 2021) \nLeague Time: 5pm – 10pm \nFormat: 3D archery\, 2 person teams and 14 targets/28 arrows
URL:https://rlrgc.com/calendar/monday-archery-league-jan-4-mar-22-2021-12/
END:VEVENT
BEGIN:VEVENT
DTSTART;TZID=America/Chicago:20210320T100000
DTEND;TZID=America/Chicago:20210320T180000
DTSTAMP:20260419T212047
CREATED:20210124T165541Z
LAST-MODIFIED:20210124T165541Z
UID:4706-1616234400-1616263200@rlrgc.com
SUMMARY:11th Annual Deer Classic - March 20\, 2021
DESCRIPTION:11th Annual Deer Classic – March 20\, 2021.  10:00am – 6:00pm \nHelp raise money to grant outdoor adventures to children and veterans. \nAdmission: $5 or bring a non-perishable food item for free admission. \nPrizes: Polaris UTV. Rifles. Pistols. Shotguns. Gun safe. Hunting and Fishing Equipment. \nBoone and Crocket scoring.
URL:https://rlrgc.com/calendar/11th-annual-deer-classic-march-20-2021/
END:VEVENT
BEGIN:VEVENT
DTSTART;TZID=America/Chicago:20210318T033000
DTEND;TZID=America/Chicago:20210318T220000
DTSTAMP:20260419T212047
CREATED:20210316T011827Z
LAST-MODIFIED:20210316T011827Z
UID:4786-1616038200-1616104800@rlrgc.com
SUMMARY:RL School Trap
DESCRIPTION:RL School Trap
URL:https://rlrgc.com/calendar/rl-school-trap/
END:VEVENT
BEGIN:VEVENT
DTSTART;TZID=America/Chicago:20210317T170000
DTEND;TZID=America/Chicago:20210317T220000
DTSTAMP:20260419T212047
CREATED:20201201T024054Z
LAST-MODIFIED:20201201T024054Z
UID:4633-1616000400-1616018400@rlrgc.com
SUMMARY:Wednesday Archery League (Jan 6 - Mar 24\, 2021)
DESCRIPTION:Wednesday Archery League (Jan 6 – Mar 24\, 2021) \nLeague Time: 5pm – 10pm \nFormat: 3D archery\, 2 person teams and 14 targets/28 arrows
URL:https://rlrgc.com/calendar/wednesday-archery-league-jan-6-mar-24-2021-12/
END:VEVENT
BEGIN:VEVENT
DTSTART;TZID=America/Chicago:20210316T170000
DTEND;TZID=America/Chicago:20210316T220000
DTSTAMP:20260419T212047
CREATED:20201201T022913Z
LAST-MODIFIED:20201201T022913Z
UID:4591-1615914000-1615932000@rlrgc.com
SUMMARY:Tuesday Archery League (Jan 5 - Mar 23\, 2021)
DESCRIPTION:Tuesday Archery League (Jan 5 – Mar 23\, 2021) \nLeague Time: 5pm – 10pm \nFormat: 3D archery\, 2 person teams and 14 targets/28 arrows
URL:https://rlrgc.com/calendar/tuesday-archery-league-jan-5-mar-23-2021-11/
END:VEVENT
END:VCALENDAR