BEGIN:VCALENDAR
VERSION:2.0
PRODID:-//Random Lake Rod &amp; Gun Club - ECPv6.15.9//NONSGML v1.0//EN
CALSCALE:GREGORIAN
METHOD:PUBLISH
X-WR-CALNAME:Random Lake Rod &amp; Gun Club
X-ORIGINAL-URL:https://rlrgc.com
X-WR-CALDESC:Events for Random Lake Rod &amp; Gun Club
REFRESH-INTERVAL;VALUE=DURATION:PT1H
X-Robots-Tag:noindex
X-PUBLISHED-TTL:PT1H
BEGIN:VTIMEZONE
TZID:America/Chicago
BEGIN:DAYLIGHT
TZOFFSETFROM:-0600
TZOFFSETTO:-0500
TZNAME:CDT
DTSTART:20180311T080000
END:DAYLIGHT
BEGIN:STANDARD
TZOFFSETFROM:-0500
TZOFFSETTO:-0600
TZNAME:CST
DTSTART:20181104T070000
END:STANDARD
BEGIN:DAYLIGHT
TZOFFSETFROM:-0600
TZOFFSETTO:-0500
TZNAME:CDT
DTSTART:20190310T080000
END:DAYLIGHT
BEGIN:STANDARD
TZOFFSETFROM:-0500
TZOFFSETTO:-0600
TZNAME:CST
DTSTART:20191103T070000
END:STANDARD
BEGIN:DAYLIGHT
TZOFFSETFROM:-0600
TZOFFSETTO:-0500
TZNAME:CDT
DTSTART:20200308T080000
END:DAYLIGHT
BEGIN:STANDARD
TZOFFSETFROM:-0500
TZOFFSETTO:-0600
TZNAME:CST
DTSTART:20201101T070000
END:STANDARD
END:VTIMEZONE
BEGIN:VEVENT
DTSTART;TZID=America/Chicago:20190710T170000
DTEND;TZID=America/Chicago:20190710T210000
DTSTAMP:20260421T213548
CREATED:20190328T143458Z
LAST-MODIFIED:20190328T143458Z
UID:332-1562778000-1562792400@rlrgc.com
SUMMARY:Open Trap Shooting July 10
DESCRIPTION:Dates: May 29\, 2019 – September 4\, 2019. \nTime: 5:00pm – 9:00pm.
URL:https://rlrgc.com/calendar/open-trap-shooting-july-10/
END:VEVENT
BEGIN:VEVENT
DTSTART;TZID=America/Chicago:20190709T193000
DTEND;TZID=America/Chicago:20190709T210000
DTSTAMP:20260421T213548
CREATED:20190328T154714Z
LAST-MODIFIED:20190328T154714Z
UID:399-1562700600-1562706000@rlrgc.com
SUMMARY:July 2019 Monthly Club Meeting
DESCRIPTION:
URL:https://rlrgc.com/calendar/july-2019-monthly-club-meeting/
END:VEVENT
BEGIN:VEVENT
DTSTART;VALUE=DATE:20190703
DTEND;VALUE=DATE:20190705
DTSTAMP:20260421T213548
CREATED:20190328T141958Z
LAST-MODIFIED:20190328T141958Z
UID:303-1562112000-1562284799@rlrgc.com
SUMMARY:Club Closed
DESCRIPTION:No leagues or events.
URL:https://rlrgc.com/calendar/club-closed/
END:VEVENT
BEGIN:VEVENT
DTSTART;VALUE=DATE:20190629
DTEND;VALUE=DATE:20190630
DTSTAMP:20260421T213548
CREATED:20190509T003120Z
LAST-MODIFIED:20190509T004756Z
UID:3765-1561766400-1561852799@rlrgc.com
SUMMARY:Club Closed (BM) June 29
DESCRIPTION:Club Closed (BM) June 29. Private member event.
URL:https://rlrgc.com/calendar/club-closed-bm-june-29/
END:VEVENT
BEGIN:VEVENT
DTSTART;TZID=America/Chicago:20190627T170000
DTEND;TZID=America/Chicago:20190627T220000
DTSTAMP:20260421T213548
CREATED:20190328T141905Z
LAST-MODIFIED:20190328T141905Z
UID:301-1561654800-1561672800@rlrgc.com
SUMMARY:Summer Trap League June 27
DESCRIPTION:League Dates: May 30\, 2019 – August 22\, 2019. \nLeague Time: 5:00pm – 10:00pm.
URL:https://rlrgc.com/calendar/summer-trap-league-june-27/
END:VEVENT
BEGIN:VEVENT
DTSTART;TZID=America/Chicago:20190626T170000
DTEND;TZID=America/Chicago:20190626T210000
DTSTAMP:20260421T213548
CREATED:20190328T143401Z
LAST-MODIFIED:20190328T143401Z
UID:330-1561568400-1561582800@rlrgc.com
SUMMARY:Open Trap Shooting June 26
DESCRIPTION:Dates: May 29\, 2019 – September 4\, 2019. \nTime: 5:00pm – 9:00pm.
URL:https://rlrgc.com/calendar/open-trap-shooting-june-26/
END:VEVENT
BEGIN:VEVENT
DTSTART;TZID=America/Chicago:20190620T170000
DTEND;TZID=America/Chicago:20190620T220000
DTSTAMP:20260421T213548
CREATED:20190328T141811Z
LAST-MODIFIED:20190328T141811Z
UID:299-1561050000-1561068000@rlrgc.com
SUMMARY:Summer Trap League June 20
DESCRIPTION:League Dates: May 30\, 2019 – August 22\, 2019. \nLeague Time: 5:00pm – 10:00pm.
URL:https://rlrgc.com/calendar/summer-trap-league-june-20/
END:VEVENT
BEGIN:VEVENT
DTSTART;TZID=America/Chicago:20190619T170000
DTEND;TZID=America/Chicago:20190619T210000
DTSTAMP:20260421T213548
CREATED:20190328T143134Z
LAST-MODIFIED:20190328T143134Z
UID:328-1560963600-1560978000@rlrgc.com
SUMMARY:Open Trap Shooting June 19
DESCRIPTION:Dates: May 29\, 2019 – September 4\, 2019. \nTime: 5:00pm – 9:00pm.
URL:https://rlrgc.com/calendar/open-trap-shooting-june-19/
END:VEVENT
BEGIN:VEVENT
DTSTART;TZID=America/Chicago:20190618T173000
DTEND;TZID=America/Chicago:20190618T210000
DTSTAMP:20260421T213548
CREATED:20190509T030858Z
LAST-MODIFIED:20190509T030858Z
UID:3798-1560879000-1560891600@rlrgc.com
SUMMARY:NRA Women's Basic Pistol Class 2 of 2
DESCRIPTION:This is a TWO session class: Tuesday\, June 4 & 18 from 5:30-9:00 PM
URL:https://rlrgc.com/calendar/nra-womens-basic-pistol-class-2-of-2/
END:VEVENT
BEGIN:VEVENT
DTSTART;TZID=America/Chicago:20190613T170000
DTEND;TZID=America/Chicago:20190613T220000
DTSTAMP:20260421T213548
CREATED:20190328T141652Z
LAST-MODIFIED:20190328T141652Z
UID:297-1560445200-1560463200@rlrgc.com
SUMMARY:Summer Trap League June 13
DESCRIPTION:League Dates: May 30\, 2019 – August 22\, 2019. \nLeague Time: 5:00pm – 10:00pm.
URL:https://rlrgc.com/calendar/summer-trap-league-june-13/
END:VEVENT
BEGIN:VEVENT
DTSTART;TZID=America/Chicago:20190612T170000
DTEND;TZID=America/Chicago:20190612T210000
DTSTAMP:20260421T213548
CREATED:20190328T142932Z
LAST-MODIFIED:20190328T142932Z
UID:323-1560358800-1560373200@rlrgc.com
SUMMARY:Open Trap Shooting June 12
DESCRIPTION:Dates: May 29\, 2019 – September 4\, 2019. \nTime: 5:00pm – 9:00pm.
URL:https://rlrgc.com/calendar/open-trap-shooting-june-12/
END:VEVENT
BEGIN:VEVENT
DTSTART;TZID=America/Chicago:20190611T193000
DTEND;TZID=America/Chicago:20190611T210000
DTSTAMP:20260421T213548
CREATED:20190328T154643Z
LAST-MODIFIED:20190328T154643Z
UID:397-1560281400-1560286800@rlrgc.com
SUMMARY:June 2019 Monthly Club Meeting
DESCRIPTION:
URL:https://rlrgc.com/calendar/june-2019-monthly-club-meeting/
END:VEVENT
BEGIN:VEVENT
DTSTART;VALUE=DATE:20190609
DTEND;VALUE=DATE:20190610
DTSTAMP:20260421T213548
CREATED:20190509T003027Z
LAST-MODIFIED:20190509T004835Z
UID:3763-1560038400-1560124799@rlrgc.com
SUMMARY:Club Closed (ME) June 9
DESCRIPTION:Club Closed (ME) June 9. Private member event.
URL:https://rlrgc.com/calendar/club-closed-me-june-9/
END:VEVENT
BEGIN:VEVENT
DTSTART;VALUE=DATE:20190608
DTEND;VALUE=DATE:20190609
DTSTAMP:20260421T213548
CREATED:20190509T002914Z
LAST-MODIFIED:20190509T002914Z
UID:3761-1559952000-1560038399@rlrgc.com
SUMMARY:Club Closed (JB) June 8
DESCRIPTION:Club Closed (JB) June 8. Private member event
URL:https://rlrgc.com/calendar/club-closed-jb-june-8/
END:VEVENT
BEGIN:VEVENT
DTSTART;VALUE=DATE:20190607
DTEND;VALUE=DATE:20190608
DTSTAMP:20260421T213548
CREATED:20190509T002726Z
LAST-MODIFIED:20190509T002726Z
UID:3759-1559865600-1559951999@rlrgc.com
SUMMARY:Club Closed (TH) June 7
DESCRIPTION:Club Closed (TH) June 7. Private member event
URL:https://rlrgc.com/calendar/club-closed-th-june-7/
END:VEVENT
BEGIN:VEVENT
DTSTART;TZID=America/Chicago:20190606T170000
DTEND;TZID=America/Chicago:20190606T220000
DTSTAMP:20260421T213548
CREATED:20190328T141408Z
LAST-MODIFIED:20190328T141408Z
UID:293-1559840400-1559858400@rlrgc.com
SUMMARY:Summer Trap League June 6
DESCRIPTION:League Dates: May 30\, 2019 – August 22\, 2019. \nLeague Time: 5:00pm – 10:00pm.
URL:https://rlrgc.com/calendar/summer-trap-league-june-6/
END:VEVENT
BEGIN:VEVENT
DTSTART;TZID=America/Chicago:20190605T170000
DTEND;TZID=America/Chicago:20190605T210000
DTSTAMP:20260421T213548
CREATED:20190328T142819Z
LAST-MODIFIED:20190328T142819Z
UID:321-1559754000-1559768400@rlrgc.com
SUMMARY:Open Trap Shooting June 5
DESCRIPTION:Dates: May 29\, 2019 – September 4\, 2019. \nTime: 5:00pm – 9:00pm.
URL:https://rlrgc.com/calendar/open-trap-shooting-june-5/
END:VEVENT
BEGIN:VEVENT
DTSTART;TZID=America/Chicago:20190604T173000
DTEND;TZID=America/Chicago:20190604T210000
DTSTAMP:20260421T213548
CREATED:20190509T025754Z
LAST-MODIFIED:20190509T124959Z
UID:3793-1559669400-1559682000@rlrgc.com
SUMMARY:NRA Women's Basic Pistol Class 1 of 2
DESCRIPTION:This is a TWO session class: Tuesday\, June 4 & 18 from  5:30-9:00 PM \nTwo Class Options:\n-Basic Pistol Class Only- 60.00\n-NRA Certification Class -100.00 includes book and official certificate \nJune 18- 5:30-9:00 PM\nOfficial sign up link: https://www.signupgenius.com/go/70A0A44A5AF2DA6F58-nrawomens
URL:https://rlrgc.com/calendar/nra-womens-basic-pistol-class-1-of-2/
END:VEVENT
BEGIN:VEVENT
DTSTART;TZID=America/Chicago:20190602T090000
DTEND;TZID=America/Chicago:20190602T150000
DTSTAMP:20260421T213548
CREATED:20190328T134809Z
LAST-MODIFIED:20190328T134809Z
UID:267-1559466000-1559487600@rlrgc.com
SUMMARY:50 Bird Lewis Shoot June 2
DESCRIPTION:Registration: 9:00am – 2:45pm. \nShoot is from 9:00am – 3:00pm. All targets are shot from the 16-yard line.
URL:https://rlrgc.com/calendar/50-bird-lewis-shoot-june-2/
END:VEVENT
BEGIN:VEVENT
DTSTART;VALUE=DATE:20190601
DTEND;VALUE=DATE:20190602
DTSTAMP:20260421T213548
CREATED:20190508T220629Z
LAST-MODIFIED:20190508T220629Z
UID:3757-1559347200-1559433599@rlrgc.com
SUMMARY:Club Closed (JH) June 1
DESCRIPTION:Club Closed (JH) June 1. Private member event.
URL:https://rlrgc.com/calendar/club-closed-jh-june-1/
END:VEVENT
BEGIN:VEVENT
DTSTART;TZID=America/Chicago:20190530T170000
DTEND;TZID=America/Chicago:20190530T220000
DTSTAMP:20260421T213548
CREATED:20190328T140524Z
LAST-MODIFIED:20190328T140524Z
UID:282-1559235600-1559253600@rlrgc.com
SUMMARY:Summer Trap League May 30
DESCRIPTION:League Dates: May 30\, 2019 – August 22\, 2019. \nLeague Time: 5:00pm – 10:00pm.
URL:https://rlrgc.com/calendar/summer-trap-league-may-30/
END:VEVENT
BEGIN:VEVENT
DTSTART;TZID=America/Chicago:20190529T170000
DTEND;TZID=America/Chicago:20190529T210000
DTSTAMP:20260421T213548
CREATED:20190328T142707Z
LAST-MODIFIED:20190328T142707Z
UID:319-1559149200-1559163600@rlrgc.com
SUMMARY:Open Trap Shooting May 29
DESCRIPTION:Dates: May 29\, 2019 – September 4\, 2019. \nTime: 5:00pm – 9:00pm.
URL:https://rlrgc.com/calendar/open-trap-shooting-may-29/
END:VEVENT
BEGIN:VEVENT
DTSTART;VALUE=DATE:20190526
DTEND;VALUE=DATE:20190527
DTSTAMP:20260421T213548
CREATED:20190508T220018Z
LAST-MODIFIED:20190508T220138Z
UID:3753-1558828800-1558915199@rlrgc.com
SUMMARY:Club Closed (SK) May 26
DESCRIPTION:Club closed. Private member event.
URL:https://rlrgc.com/calendar/club-closed-sk-may-26/
END:VEVENT
BEGIN:VEVENT
DTSTART;TZID=America/Chicago:20190523T170000
DTEND;TZID=America/Chicago:20190523T210000
DTSTAMP:20260421T213548
CREATED:20190328T141002Z
LAST-MODIFIED:20190328T141002Z
UID:286-1558630800-1558645200@rlrgc.com
SUMMARY:Summer Trap League Registration
DESCRIPTION:Registration: May 23\, 2019 from 5:00pm – 9:00pm. \nLeague Dates: May 30\, 2019 – August 22\, 2019. \nLeague Time: 5:00pm – 10:00pm.
URL:https://rlrgc.com/calendar/summer-trap-league-registration/
END:VEVENT
BEGIN:VEVENT
DTSTART;TZID=America/Chicago:20190515T180000
DTEND;TZID=America/Chicago:20190515T210000
DTSTAMP:20260421T213548
CREATED:20190509T032500Z
LAST-MODIFIED:20190514T000945Z
UID:3806-1557943200-1557954000@rlrgc.com
SUMMARY:Virtual Reality Training: Beyond the Target
DESCRIPTION:In the split-second that a life-threatening incident occurs\, will you be able to remain calm and react under pressure? \nJoin self-defense instructor and former police officer Austin Davis as he takes you through several scenarios designed to test your reactions in stressful situations. You will also learn about the 3 kinds of 9-1-1 calls and 5 things to tell law enforcement after a shooting. \n$10.00 donation for class that will go to the Sheboygan County K-9 unit. \nReserve you space now by going to:  https://www.signupgenius.com/go/70a0a44a5af2da6f58-vrtraining
URL:https://rlrgc.com/calendar/virtual-reality-training-beyond-the-target/
END:VEVENT
BEGIN:VEVENT
DTSTART;TZID=America/Chicago:20190515T080000
DTEND;TZID=America/Chicago:20190515T113000
DTSTAMP:20260421T213548
CREATED:20190509T031610Z
LAST-MODIFIED:20190509T031610Z
UID:3802-1557907200-1557919800@rlrgc.com
SUMMARY:RL High School Trap/Pistol Shooting May 15
DESCRIPTION:RL High School Trap/Pistol Shooting May 15; 8:00 am – 11:30 am
URL:https://rlrgc.com/calendar/rl-high-school-trap-pistol-shooting-may-15/
END:VEVENT
BEGIN:VEVENT
DTSTART;TZID=America/Chicago:20190514T193000
DTEND;TZID=America/Chicago:20190514T210000
DTSTAMP:20260421T213548
CREATED:20190328T154543Z
LAST-MODIFIED:20190328T154543Z
UID:395-1557862200-1557867600@rlrgc.com
SUMMARY:May 2019 Monthly Club Meeting
DESCRIPTION:
URL:https://rlrgc.com/calendar/may-2019-monthly-club-meeting/
END:VEVENT
BEGIN:VEVENT
DTSTART;TZID=America/Chicago:20190513T080000
DTEND;TZID=America/Chicago:20190513T113000
DTSTAMP:20260421T213548
CREATED:20190509T031432Z
LAST-MODIFIED:20190509T031432Z
UID:3800-1557734400-1557747000@rlrgc.com
SUMMARY:RL High School Trap/Pistol Shooting May 13
DESCRIPTION:RL High School Trap/Pistol Shooting May 13; 8:00 am – 11:30 am
URL:https://rlrgc.com/calendar/rl-high-school-trap-pistol-shooting-may-13/
END:VEVENT
BEGIN:VEVENT
DTSTART;TZID=America/Chicago:20190509T180000
DTEND;TZID=America/Chicago:20190509T200000
DTSTAMP:20260421T213548
CREATED:20190509T031731Z
LAST-MODIFIED:20190509T034837Z
UID:3804-1557424800-1557432000@rlrgc.com
SUMMARY:RL High School Trap Practice May 9
DESCRIPTION:RL Trap Shot Practice May 9; 6:00pm – 8:00pm
URL:https://rlrgc.com/calendar/rl-trap-shot-practice-may-9/
END:VEVENT
BEGIN:VEVENT
DTSTART;TZID=America/Chicago:20190504T090000
DTEND;TZID=America/Chicago:20190504T150000
DTSTAMP:20260421T213548
CREATED:20190328T134509Z
LAST-MODIFIED:20190328T134509Z
UID:263-1556960400-1556982000@rlrgc.com
SUMMARY:50 Bird Lewis Shoot May 4
DESCRIPTION:Registration: 9:00am – 2:45pm. \nShoot is from 9:00am – 3:00pm. All targets are shot from the 16-yard line.
URL:https://rlrgc.com/calendar/50-bird-lewis-shoot-may-4/
END:VEVENT
END:VCALENDAR