BEGIN:VCALENDAR
VERSION:2.0
PRODID:-//Random Lake Rod &amp; Gun Club - ECPv6.15.9//NONSGML v1.0//EN
CALSCALE:GREGORIAN
METHOD:PUBLISH
X-WR-CALNAME:Random Lake Rod &amp; Gun Club
X-ORIGINAL-URL:https://rlrgc.com
X-WR-CALDESC:Events for Random Lake Rod &amp; Gun Club
REFRESH-INTERVAL;VALUE=DURATION:PT1H
X-Robots-Tag:noindex
X-PUBLISHED-TTL:PT1H
BEGIN:VTIMEZONE
TZID:America/Chicago
BEGIN:DAYLIGHT
TZOFFSETFROM:-0600
TZOFFSETTO:-0500
TZNAME:CDT
DTSTART:20180311T080000
END:DAYLIGHT
BEGIN:STANDARD
TZOFFSETFROM:-0500
TZOFFSETTO:-0600
TZNAME:CST
DTSTART:20181104T070000
END:STANDARD
BEGIN:DAYLIGHT
TZOFFSETFROM:-0600
TZOFFSETTO:-0500
TZNAME:CDT
DTSTART:20190310T080000
END:DAYLIGHT
BEGIN:STANDARD
TZOFFSETFROM:-0500
TZOFFSETTO:-0600
TZNAME:CST
DTSTART:20191103T070000
END:STANDARD
BEGIN:DAYLIGHT
TZOFFSETFROM:-0600
TZOFFSETTO:-0500
TZNAME:CDT
DTSTART:20200308T080000
END:DAYLIGHT
BEGIN:STANDARD
TZOFFSETFROM:-0500
TZOFFSETTO:-0600
TZNAME:CST
DTSTART:20201101T070000
END:STANDARD
END:VTIMEZONE
BEGIN:VEVENT
DTSTART;VALUE=DATE:20190703
DTEND;VALUE=DATE:20190705
DTSTAMP:20260423T110022
CREATED:20190328T141958Z
LAST-MODIFIED:20190328T141958Z
UID:303-1562112000-1562284799@rlrgc.com
SUMMARY:Club Closed
DESCRIPTION:No leagues or events.
URL:https://rlrgc.com/calendar/club-closed/
END:VEVENT
BEGIN:VEVENT
DTSTART;TZID=America/Chicago:20190709T193000
DTEND;TZID=America/Chicago:20190709T210000
DTSTAMP:20260423T110022
CREATED:20190328T154714Z
LAST-MODIFIED:20190328T154714Z
UID:399-1562700600-1562706000@rlrgc.com
SUMMARY:July 2019 Monthly Club Meeting
DESCRIPTION:
URL:https://rlrgc.com/calendar/july-2019-monthly-club-meeting/
END:VEVENT
BEGIN:VEVENT
DTSTART;TZID=America/Chicago:20190710T170000
DTEND;TZID=America/Chicago:20190710T210000
DTSTAMP:20260423T110022
CREATED:20190328T143458Z
LAST-MODIFIED:20190328T143458Z
UID:332-1562778000-1562792400@rlrgc.com
SUMMARY:Open Trap Shooting July 10
DESCRIPTION:Dates: May 29\, 2019 – September 4\, 2019. \nTime: 5:00pm – 9:00pm.
URL:https://rlrgc.com/calendar/open-trap-shooting-july-10/
END:VEVENT
BEGIN:VEVENT
DTSTART;TZID=America/Chicago:20190711T170000
DTEND;TZID=America/Chicago:20190711T220000
DTSTAMP:20260423T110022
CREATED:20190328T142048Z
LAST-MODIFIED:20190328T142048Z
UID:305-1562864400-1562882400@rlrgc.com
SUMMARY:Summer Trap League July 11
DESCRIPTION:League Dates: May 30\, 2019 – August 22\, 2019. \nLeague Time: 5:00pm – 10:00pm.
URL:https://rlrgc.com/calendar/summer-trap-league-july-11/
END:VEVENT
BEGIN:VEVENT
DTSTART;VALUE=DATE:20190714
DTEND;VALUE=DATE:20190715
DTSTAMP:20260423T110022
CREATED:20190509T003229Z
LAST-MODIFIED:20190509T004712Z
UID:3767-1563062400-1563148799@rlrgc.com
SUMMARY:Club Closed (JM) July 14
DESCRIPTION:Club Closed (JM) July 14. Private member event.
URL:https://rlrgc.com/calendar/club-closed-jm-july-14/
END:VEVENT
BEGIN:VEVENT
DTSTART;TZID=America/Chicago:20190717T170000
DTEND;TZID=America/Chicago:20190717T210000
DTSTAMP:20260423T110022
CREATED:20190328T143551Z
LAST-MODIFIED:20190328T143551Z
UID:334-1563382800-1563397200@rlrgc.com
SUMMARY:Open Trap Shooting July 17
DESCRIPTION:Dates: May 29\, 2019 – September 4\, 2019. \nTime: 5:00pm – 9:00pm.
URL:https://rlrgc.com/calendar/open-trap-shooting-july-17/
END:VEVENT
BEGIN:VEVENT
DTSTART;TZID=America/Chicago:20190718T170000
DTEND;TZID=America/Chicago:20190718T220000
DTSTAMP:20260423T110022
CREATED:20190328T142135Z
LAST-MODIFIED:20190328T142135Z
UID:307-1563469200-1563487200@rlrgc.com
SUMMARY:Summer Trap League July 18
DESCRIPTION:League Dates: May 30\, 2019 – August 22\, 2019. \nLeague Time: 5:00pm – 10:00pm.
URL:https://rlrgc.com/calendar/summer-trap-league-july-18/
END:VEVENT
BEGIN:VEVENT
DTSTART;TZID=America/Chicago:20190724T170000
DTEND;TZID=America/Chicago:20190724T210000
DTSTAMP:20260423T110022
CREATED:20190328T143641Z
LAST-MODIFIED:20190328T143641Z
UID:336-1563987600-1564002000@rlrgc.com
SUMMARY:Open Trap Shooting July 24
DESCRIPTION:Dates: May 29\, 2019 – September 4\, 2019. \nTime: 5:00pm – 9:00pm.
URL:https://rlrgc.com/calendar/open-trap-shooting-july-24/
END:VEVENT
BEGIN:VEVENT
DTSTART;TZID=America/Chicago:20190725T170000
DTEND;TZID=America/Chicago:20190725T220000
DTSTAMP:20260423T110022
CREATED:20190328T142224Z
LAST-MODIFIED:20190328T142224Z
UID:309-1564074000-1564092000@rlrgc.com
SUMMARY:Summer Trap League July 25
DESCRIPTION:League Dates: May 30\, 2019 – August 22\, 2019. \nLeague Time: 5:00pm – 10:00pm.
URL:https://rlrgc.com/calendar/summer-trap-league-july-25/
END:VEVENT
BEGIN:VEVENT
DTSTART;TZID=America/Chicago:20190731T170000
DTEND;TZID=America/Chicago:20190731T210000
DTSTAMP:20260423T110022
CREATED:20190328T143953Z
LAST-MODIFIED:20190328T143953Z
UID:341-1564592400-1564606800@rlrgc.com
SUMMARY:Open Trap Shooting July 31
DESCRIPTION:Dates: May 29\, 2019 – September 4\, 2019. \nTime: 5:00pm – 9:00pm.
URL:https://rlrgc.com/calendar/open-trap-shooting-july-31/
END:VEVENT
END:VCALENDAR