BEGIN:VCALENDAR
VERSION:2.0
PRODID:-//Random Lake Rod &amp; Gun Club - ECPv6.15.9//NONSGML v1.0//EN
CALSCALE:GREGORIAN
METHOD:PUBLISH
X-WR-CALNAME:Random Lake Rod &amp; Gun Club
X-ORIGINAL-URL:https://rlrgc.com
X-WR-CALDESC:Events for Random Lake Rod &amp; Gun Club
REFRESH-INTERVAL;VALUE=DURATION:PT1H
X-Robots-Tag:noindex
X-PUBLISHED-TTL:PT1H
BEGIN:VTIMEZONE
TZID:America/Chicago
BEGIN:DAYLIGHT
TZOFFSETFROM:-0600
TZOFFSETTO:-0500
TZNAME:CDT
DTSTART:20180311T080000
END:DAYLIGHT
BEGIN:STANDARD
TZOFFSETFROM:-0500
TZOFFSETTO:-0600
TZNAME:CST
DTSTART:20181104T070000
END:STANDARD
BEGIN:DAYLIGHT
TZOFFSETFROM:-0600
TZOFFSETTO:-0500
TZNAME:CDT
DTSTART:20190310T080000
END:DAYLIGHT
BEGIN:STANDARD
TZOFFSETFROM:-0500
TZOFFSETTO:-0600
TZNAME:CST
DTSTART:20191103T070000
END:STANDARD
BEGIN:DAYLIGHT
TZOFFSETFROM:-0600
TZOFFSETTO:-0500
TZNAME:CDT
DTSTART:20200308T080000
END:DAYLIGHT
BEGIN:STANDARD
TZOFFSETFROM:-0500
TZOFFSETTO:-0600
TZNAME:CST
DTSTART:20201101T070000
END:STANDARD
END:VTIMEZONE
BEGIN:VEVENT
DTSTART;TZID=America/Chicago:20190904T170000
DTEND;TZID=America/Chicago:20190904T210000
DTSTAMP:20260423T080724
CREATED:20190328T144437Z
LAST-MODIFIED:20190328T144437Z
UID:351-1567616400-1567630800@rlrgc.com
SUMMARY:Open Trap Shooting Sept. 4
DESCRIPTION:Dates: May 29\, 2019 – September 4\, 2019. \nTime: 5:00pm – 9:00pm.
URL:https://rlrgc.com/calendar/open-trap-shooting-sept-4/
END:VEVENT
BEGIN:VEVENT
DTSTART;TZID=America/Chicago:20190910T193000
DTEND;TZID=America/Chicago:20190910T210000
DTSTAMP:20260423T080724
CREATED:20190328T154846Z
LAST-MODIFIED:20190328T154846Z
UID:403-1568143800-1568149200@rlrgc.com
SUMMARY:September 2019 Monthly Club Meeting
DESCRIPTION:
URL:https://rlrgc.com/calendar/september-2019-monthly-club-meeting/
END:VEVENT
BEGIN:VEVENT
DTSTART;VALUE=DATE:20190921
DTEND;VALUE=DATE:20190922
DTSTAMP:20260423T080724
CREATED:20190815T205645Z
LAST-MODIFIED:20190815T205645Z
UID:3943-1569024000-1569110399@rlrgc.com
SUMMARY:Club Closed (HL)  Sept 21
DESCRIPTION:Club Closed (HL)  Sept 21
URL:https://rlrgc.com/calendar/club-closed-hl-sept-21/
END:VEVENT
BEGIN:VEVENT
DTSTART;VALUE=DATE:20190922
DTEND;VALUE=DATE:20190923
DTSTAMP:20260423T080724
CREATED:20190815T205717Z
LAST-MODIFIED:20190815T205717Z
UID:3946-1569110400-1569196799@rlrgc.com
SUMMARY:Club Closed (PL)  Sept 22
DESCRIPTION:Club Closed (PL)  Sept 22
URL:https://rlrgc.com/calendar/club-closed-pl-sept-22/
END:VEVENT
BEGIN:VEVENT
DTSTART;VALUE=DATE:20190928
DTEND;VALUE=DATE:20190929
DTSTAMP:20260423T080724
CREATED:20190911T144714Z
LAST-MODIFIED:20190911T144714Z
UID:3966-1569628800-1569715199@rlrgc.com
SUMMARY:Club Closed (KN) Sept 28
DESCRIPTION:Club Closed (KN) Sept 28
URL:https://rlrgc.com/calendar/club-closed-kn-sept-28/
END:VEVENT
END:VCALENDAR