BEGIN:VCALENDAR
VERSION:2.0
PRODID:-//Random Lake Rod &amp; Gun Club - ECPv6.15.9//NONSGML v1.0//EN
CALSCALE:GREGORIAN
METHOD:PUBLISH
X-ORIGINAL-URL:https://rlrgc.com
X-WR-CALDESC:Events for Random Lake Rod &amp; Gun Club
REFRESH-INTERVAL;VALUE=DURATION:PT1H
X-Robots-Tag:noindex
X-PUBLISHED-TTL:PT1H
BEGIN:VTIMEZONE
TZID:America/Chicago
BEGIN:DAYLIGHT
TZOFFSETFROM:-0600
TZOFFSETTO:-0500
TZNAME:CDT
DTSTART:20180311T080000
END:DAYLIGHT
BEGIN:STANDARD
TZOFFSETFROM:-0500
TZOFFSETTO:-0600
TZNAME:CST
DTSTART:20181104T070000
END:STANDARD
BEGIN:DAYLIGHT
TZOFFSETFROM:-0600
TZOFFSETTO:-0500
TZNAME:CDT
DTSTART:20190310T080000
END:DAYLIGHT
BEGIN:STANDARD
TZOFFSETFROM:-0500
TZOFFSETTO:-0600
TZNAME:CST
DTSTART:20191103T070000
END:STANDARD
BEGIN:DAYLIGHT
TZOFFSETFROM:-0600
TZOFFSETTO:-0500
TZNAME:CDT
DTSTART:20200308T080000
END:DAYLIGHT
BEGIN:STANDARD
TZOFFSETFROM:-0500
TZOFFSETTO:-0600
TZNAME:CST
DTSTART:20201101T070000
END:STANDARD
END:VTIMEZONE
BEGIN:VEVENT
DTSTART;TZID=America/Chicago:20191210T193000
DTEND;TZID=America/Chicago:20191210T210000
DTSTAMP:20260421T025955
CREATED:20190328T155049Z
LAST-MODIFIED:20190328T155049Z
UID:409-1576006200-1576011600@rlrgc.com
SUMMARY:December 2019 Monthly Club Meeting
DESCRIPTION:
URL:https://rlrgc.com/calendar/december-2019-monthly-club-meeting/
END:VEVENT
BEGIN:VEVENT
DTSTART;VALUE=DATE:20191214
DTEND;VALUE=DATE:20191215
DTSTAMP:20260421T025955
CREATED:20190728T194016Z
LAST-MODIFIED:20190728T194016Z
UID:3931-1576281600-1576367999@rlrgc.com
SUMMARY:Club Closed (JG) Dec 14
DESCRIPTION:Club Closed (JG) Dec 14. Private member event.
URL:https://rlrgc.com/calendar/club-closed-jg-dec-14/
END:VEVENT
BEGIN:VEVENT
DTSTART;TZID=America/Chicago:20191219T193000
DTEND;TZID=America/Chicago:20191219T213000
DTSTAMP:20260421T025955
CREATED:20191220T021737Z
LAST-MODIFIED:20191220T021737Z
UID:4023-1576783800-1576791000@rlrgc.com
SUMMARY:March 2020 Monthly Club Meeting
DESCRIPTION:March 2020 Monthly Club Meeting
URL:https://rlrgc.com/calendar/march-2020-monthly-club-meeting/
END:VEVENT
BEGIN:VEVENT
DTSTART;VALUE=DATE:20191221
DTEND;VALUE=DATE:20191222
DTSTAMP:20260421T025955
CREATED:20190509T005523Z
LAST-MODIFIED:20190509T005523Z
UID:3777-1576886400-1576972799@rlrgc.com
SUMMARY:Club Closed (GD) Dec 21
DESCRIPTION:Club Closed (GD) Dec 21. Private member event.
URL:https://rlrgc.com/calendar/club-closed-gd-dec-21/
END:VEVENT
BEGIN:VEVENT
DTSTART;VALUE=DATE:20191222
DTEND;VALUE=DATE:20191223
DTSTAMP:20260421T025955
CREATED:20190728T194232Z
LAST-MODIFIED:20190728T194358Z
UID:3933-1576972800-1577059199@rlrgc.com
SUMMARY:Club Closed (GN) Dec 22
DESCRIPTION:Club Closed (GN) Dec 22. Private member event.
URL:https://rlrgc.com/calendar/club-closed-gn-dec-22/
END:VEVENT
BEGIN:VEVENT
DTSTART;VALUE=DATE:20191228
DTEND;VALUE=DATE:20191229
DTSTAMP:20260421T025955
CREATED:20190509T005623Z
LAST-MODIFIED:20190509T005623Z
UID:3779-1577491200-1577577599@rlrgc.com
SUMMARY:Club Closed (JH) Dec 28
DESCRIPTION:Club Closed (JH) Dec 28. Private member event.
URL:https://rlrgc.com/calendar/club-closed-jh-dec-28/
END:VEVENT
END:VCALENDAR