BEGIN:VCALENDAR
VERSION:2.0
PRODID:-//Random Lake Rod &amp; Gun Club - ECPv6.15.9//NONSGML v1.0//EN
CALSCALE:GREGORIAN
METHOD:PUBLISH
X-WR-CALNAME:Random Lake Rod &amp; Gun Club
X-ORIGINAL-URL:https://rlrgc.com
X-WR-CALDESC:Events for Random Lake Rod &amp; Gun Club
REFRESH-INTERVAL;VALUE=DURATION:PT1H
X-Robots-Tag:noindex
X-PUBLISHED-TTL:PT1H
BEGIN:VTIMEZONE
TZID:America/Chicago
BEGIN:DAYLIGHT
TZOFFSETFROM:-0600
TZOFFSETTO:-0500
TZNAME:CDT
DTSTART:20190310T080000
END:DAYLIGHT
BEGIN:STANDARD
TZOFFSETFROM:-0500
TZOFFSETTO:-0600
TZNAME:CST
DTSTART:20191103T070000
END:STANDARD
BEGIN:DAYLIGHT
TZOFFSETFROM:-0600
TZOFFSETTO:-0500
TZNAME:CDT
DTSTART:20200308T080000
END:DAYLIGHT
BEGIN:STANDARD
TZOFFSETFROM:-0500
TZOFFSETTO:-0600
TZNAME:CST
DTSTART:20201101T070000
END:STANDARD
BEGIN:DAYLIGHT
TZOFFSETFROM:-0600
TZOFFSETTO:-0500
TZNAME:CDT
DTSTART:20210314T080000
END:DAYLIGHT
BEGIN:STANDARD
TZOFFSETFROM:-0500
TZOFFSETTO:-0600
TZNAME:CST
DTSTART:20211107T070000
END:STANDARD
END:VTIMEZONE
BEGIN:VEVENT
DTSTART;TZID=America/Chicago:20200131T170000
DTEND;TZID=America/Chicago:20200209T140000
DTSTAMP:20260420T234223
CREATED:20190328T135223Z
LAST-MODIFIED:20190328T135223Z
UID:271-1580490000-1581256800@rlrgc.com
SUMMARY:Predator Hunt
DESCRIPTION:Coyote and fox hunt. \nRegistration: January 31\, 2020 from 5:00pm – 7:00pm. \nEvent Dates: January 31\, 2020 – February 9\, 2020. \n***On February 9\, 2020\, the club opens at 10:00am and entries must be submitted by 2:00pm.
URL:https://rlrgc.com/calendar/predator-hunt/
END:VEVENT
BEGIN:VEVENT
DTSTART;TZID=America/Chicago:20200203T170000
DTEND;TZID=America/Chicago:20200203T220000
DTSTAMP:20260420T234223
CREATED:20190328T174318Z
LAST-MODIFIED:20190328T174318Z
UID:495-1580749200-1580767200@rlrgc.com
SUMMARY:Monday Archery League Feb. 3
DESCRIPTION:League Dates: January 6\, 2020 – March 23\, 2020.\nLeague Time: 5:00pm – 10:00pm. \nFormat: 3D archery\, 2 person teams and 14 targets/28 arrows.
URL:https://rlrgc.com/calendar/monday-archery-league-feb-3/
END:VEVENT
BEGIN:VEVENT
DTSTART;TZID=America/Chicago:20200204T170000
DTEND;TZID=America/Chicago:20200204T220000
DTSTAMP:20260420T234223
CREATED:20190328T174230Z
LAST-MODIFIED:20190328T174230Z
UID:493-1580835600-1580853600@rlrgc.com
SUMMARY:Tuesday Archery League Feb. 4
DESCRIPTION:League Dates: January 7\, 2020 – March 24\, 2020.\nLeague Time: 5:00pm – 10:00pm. \nFormat: 3D archery\, 2 person teams and 14 targets/28 arrows.
URL:https://rlrgc.com/calendar/tuesday-archery-league-feb-4/
END:VEVENT
BEGIN:VEVENT
DTSTART;TZID=America/Chicago:20200205T170000
DTEND;TZID=America/Chicago:20200205T220000
DTSTAMP:20260420T234223
CREATED:20190328T175334Z
LAST-MODIFIED:20190328T175334Z
UID:519-1580922000-1580940000@rlrgc.com
SUMMARY:Wednesday Archery League Feb. 5
DESCRIPTION:League Dates: January 8\, 2020 – March 25\, 2020.\nLeague Time: 5:00pm – 10:00pm. \nFormat: 3D archery\, 3 person teams and 14 targets/28 arrows.
URL:https://rlrgc.com/calendar/wednesday-archery-league-feb-5/
END:VEVENT
BEGIN:VEVENT
DTSTART;TZID=America/Chicago:20200208T100000
DTEND;TZID=America/Chicago:20200209T140000
DTSTAMP:20260420T234223
CREATED:20190411T141343Z
LAST-MODIFIED:20190411T141343Z
UID:732-1581156000-1581256800@rlrgc.com
SUMMARY:Crow Hunt
DESCRIPTION:Registration: January 31\, 2020 from 5:00pm – 7:00pm \nEvent Dates: February 8\, 2020 – February 9\, 2020 \n***On February 9\, 2020\, the club opens at 10:00am and entries must be submitted by 2:00pm.
URL:https://rlrgc.com/calendar/crow-hunt/
END:VEVENT
BEGIN:VEVENT
DTSTART;TZID=America/Chicago:20200210T170000
DTEND;TZID=America/Chicago:20200210T220000
DTSTAMP:20260420T234223
CREATED:20190328T160027Z
LAST-MODIFIED:20190328T160027Z
UID:422-1581354000-1581372000@rlrgc.com
SUMMARY:Monday Archery League Feb. 10
DESCRIPTION:League Dates: January 6\, 2020 – March 23\, 2020.\nLeague Time: 5:00pm – 10:00pm. \nFormat: 3D archery\, 2 person teams and 14 targets/28 arrows.
URL:https://rlrgc.com/calendar/monday-archery-league-feb-10/
END:VEVENT
BEGIN:VEVENT
DTSTART;TZID=America/Chicago:20200211T170000
DTEND;TZID=America/Chicago:20200211T220000
DTSTAMP:20260420T234223
CREATED:20190328T174418Z
LAST-MODIFIED:20190328T174418Z
UID:497-1581440400-1581458400@rlrgc.com
SUMMARY:Tuesday Archery League Feb. 11
DESCRIPTION:League Dates: January 7\, 2020 – March 24\, 2020.\nLeague Time: 5:00pm – 10:00pm. \nFormat: 3D archery\, 2 person teams and 14 targets/28 arrows.
URL:https://rlrgc.com/calendar/tuesday-archery-league-feb-11/
END:VEVENT
BEGIN:VEVENT
DTSTART;TZID=America/Chicago:20200212T170000
DTEND;TZID=America/Chicago:20200212T220000
DTSTAMP:20260420T234223
CREATED:20190328T175419Z
LAST-MODIFIED:20190328T175419Z
UID:521-1581526800-1581544800@rlrgc.com
SUMMARY:Wednesday Archery League Feb. 12
DESCRIPTION:League Dates: January 8\, 2020 – March 25\, 2020.\nLeague Time: 5:00pm – 10:00pm. \nFormat: 3D archery\, 3 person teams and 14 targets/28 arrows.
URL:https://rlrgc.com/calendar/wednesday-archery-league-feb-12/
END:VEVENT
BEGIN:VEVENT
DTSTART;TZID=America/Chicago:20200213T193000
DTEND;TZID=America/Chicago:20200213T213000
DTSTAMP:20260420T234223
CREATED:20191220T021659Z
LAST-MODIFIED:20191220T021659Z
UID:4020-1581622200-1581629400@rlrgc.com
SUMMARY:February 2020 Monthly Club Meeting
DESCRIPTION:February 2020 Monthly Club Meeting
URL:https://rlrgc.com/calendar/february-2020-monthly-club-meeting/
END:VEVENT
BEGIN:VEVENT
DTSTART;TZID=America/Chicago:20200217T170000
DTEND;TZID=America/Chicago:20200217T220000
DTSTAMP:20260420T234223
CREATED:20190328T162748Z
LAST-MODIFIED:20190328T162748Z
UID:473-1581958800-1581976800@rlrgc.com
SUMMARY:Monday Archery League Feb. 17
DESCRIPTION:League Dates: January 6\, 2020 – March 23\, 2020.\nLeague Time: 5:00pm – 10:00pm. \nFormat: 3D archery\, 2 person teams and 14 targets/28 arrows.
URL:https://rlrgc.com/calendar/monday-archery-league-feb-17/
END:VEVENT
BEGIN:VEVENT
DTSTART;TZID=America/Chicago:20200218T170000
DTEND;TZID=America/Chicago:20200218T220000
DTSTAMP:20260420T234223
CREATED:20190328T174507Z
LAST-MODIFIED:20190328T174507Z
UID:499-1582045200-1582063200@rlrgc.com
SUMMARY:Tuesday Archery League Feb. 18
DESCRIPTION:League Dates: January 7\, 2020 – March 24\, 2020.\nLeague Time: 5:00pm – 10:00pm. \nFormat: 3D archery\, 2 person teams and 14 targets/28 arrows.
URL:https://rlrgc.com/calendar/tuesday-archery-league-feb-18/
END:VEVENT
BEGIN:VEVENT
DTSTART;TZID=America/Chicago:20200219T170000
DTEND;TZID=America/Chicago:20200219T220000
DTSTAMP:20260420T234223
CREATED:20190328T175504Z
LAST-MODIFIED:20190328T175504Z
UID:523-1582131600-1582149600@rlrgc.com
SUMMARY:Wednesday Archery League Feb. 19
DESCRIPTION:League Dates: January 8\, 2020 – March 25\, 2020.\nLeague Time: 5:00pm – 10:00pm. \nFormat: 3D archery\, 3 person teams and 14 targets/28 arrows.
URL:https://rlrgc.com/calendar/wednesday-archery-league-feb-19/
END:VEVENT
BEGIN:VEVENT
DTSTART;TZID=America/Chicago:20200224T170000
DTEND;TZID=America/Chicago:20200224T220000
DTSTAMP:20260420T234223
CREATED:20190328T162907Z
LAST-MODIFIED:20190328T162907Z
UID:475-1582563600-1582581600@rlrgc.com
SUMMARY:Monday Archery League Feb. 24
DESCRIPTION:League Dates: January 6\, 2020 – March 23\, 2020.\nLeague Time: 5:00pm – 10:00pm. \nFormat: 3D archery\, 2 person teams and 14 targets/28 arrows.
URL:https://rlrgc.com/calendar/monday-archery-league-feb-24/
END:VEVENT
BEGIN:VEVENT
DTSTART;TZID=America/Chicago:20200225T170000
DTEND;TZID=America/Chicago:20200225T220000
DTSTAMP:20260420T234223
CREATED:20190328T174544Z
LAST-MODIFIED:20190328T174544Z
UID:501-1582650000-1582668000@rlrgc.com
SUMMARY:Tuesday Archery League Feb. 25
DESCRIPTION:League Dates: January 7\, 2020 – March 24\, 2020.\nLeague Time: 5:00pm – 10:00pm. \nFormat: 3D archery\, 2 person teams and 14 targets/28 arrows.
URL:https://rlrgc.com/calendar/tuesday-archery-league-feb-25/
END:VEVENT
BEGIN:VEVENT
DTSTART;TZID=America/Chicago:20200226T170000
DTEND;TZID=America/Chicago:20200226T220000
DTSTAMP:20260420T234223
CREATED:20190328T175541Z
LAST-MODIFIED:20190328T175541Z
UID:525-1582736400-1582754400@rlrgc.com
SUMMARY:Wednesday Archery League Feb. 26
DESCRIPTION:League Dates: January 8\, 2020 – March 25\, 2020.\nLeague Time: 5:00pm – 10:00pm. \nFormat: 3D archery\, 3 person teams and 14 targets/28 arrows.
URL:https://rlrgc.com/calendar/wednesday-archery-league-feb-26/
END:VEVENT
END:VCALENDAR