BEGIN:VCALENDAR
VERSION:2.0
PRODID:-//Random Lake Rod &amp; Gun Club - ECPv6.15.9//NONSGML v1.0//EN
CALSCALE:GREGORIAN
METHOD:PUBLISH
X-WR-CALNAME:Random Lake Rod &amp; Gun Club
X-ORIGINAL-URL:https://rlrgc.com
X-WR-CALDESC:Events for Random Lake Rod &amp; Gun Club
REFRESH-INTERVAL;VALUE=DURATION:PT1H
X-Robots-Tag:noindex
X-PUBLISHED-TTL:PT1H
BEGIN:VTIMEZONE
TZID:America/Chicago
BEGIN:DAYLIGHT
TZOFFSETFROM:-0600
TZOFFSETTO:-0500
TZNAME:CDT
DTSTART:20190310T080000
END:DAYLIGHT
BEGIN:STANDARD
TZOFFSETFROM:-0500
TZOFFSETTO:-0600
TZNAME:CST
DTSTART:20191103T070000
END:STANDARD
BEGIN:DAYLIGHT
TZOFFSETFROM:-0600
TZOFFSETTO:-0500
TZNAME:CDT
DTSTART:20200308T080000
END:DAYLIGHT
BEGIN:STANDARD
TZOFFSETFROM:-0500
TZOFFSETTO:-0600
TZNAME:CST
DTSTART:20201101T070000
END:STANDARD
BEGIN:DAYLIGHT
TZOFFSETFROM:-0600
TZOFFSETTO:-0500
TZNAME:CDT
DTSTART:20210314T080000
END:DAYLIGHT
BEGIN:STANDARD
TZOFFSETFROM:-0500
TZOFFSETTO:-0600
TZNAME:CST
DTSTART:20211107T070000
END:STANDARD
END:VTIMEZONE
BEGIN:VEVENT
DTSTART;TZID=America/Chicago:20200302T170000
DTEND;TZID=America/Chicago:20200302T220000
DTSTAMP:20260420T221502
CREATED:20190328T162956Z
LAST-MODIFIED:20190328T162956Z
UID:477-1583168400-1583186400@rlrgc.com
SUMMARY:Monday Archery League Mar. 2
DESCRIPTION:League Dates: January 6\, 2020 – March 23\, 2020.\nLeague Time: 5:00pm – 10:00pm. \nFormat: 3D archery\, 2 person teams and 14 targets/28 arrows.
URL:https://rlrgc.com/calendar/monday-archery-league-mar-2/
END:VEVENT
BEGIN:VEVENT
DTSTART;TZID=America/Chicago:20200303T170000
DTEND;TZID=America/Chicago:20200303T220000
DTSTAMP:20260420T221502
CREATED:20190328T174656Z
LAST-MODIFIED:20190328T174656Z
UID:503-1583254800-1583272800@rlrgc.com
SUMMARY:Tuesday Archery League Mar. 3
DESCRIPTION:League Dates: January 7\, 2020 – March 24\, 2020.\nLeague Time: 5:00pm – 10:00pm. \nFormat: 3D archery\, 2 person teams and 14 targets/28 arrows.
URL:https://rlrgc.com/calendar/tuesday-archery-league-mar-3/
END:VEVENT
BEGIN:VEVENT
DTSTART;TZID=America/Chicago:20200304T170000
DTEND;TZID=America/Chicago:20200304T220000
DTSTAMP:20260420T221502
CREATED:20190328T175622Z
LAST-MODIFIED:20190328T175622Z
UID:527-1583341200-1583359200@rlrgc.com
SUMMARY:Wednesday Archery League Mar. 4
DESCRIPTION:League Dates: January 8\, 2020 – March 25\, 2020.\nLeague Time: 5:00pm – 10:00pm. \nFormat: 3D archery\, 3 person teams and 14 targets/28 arrows.
URL:https://rlrgc.com/calendar/wednesday-archery-league-mar-4/
END:VEVENT
BEGIN:VEVENT
DTSTART;TZID=America/Chicago:20200309T170000
DTEND;TZID=America/Chicago:20200309T220000
DTSTAMP:20260420T221502
CREATED:20190328T163035Z
LAST-MODIFIED:20190328T163035Z
UID:479-1583773200-1583791200@rlrgc.com
SUMMARY:Monday Archery League Mar. 9
DESCRIPTION:League Dates: January 6\, 2020 – March 23\, 2020.\nLeague Time: 5:00pm – 10:00pm. \nFormat: 3D archery\, 2 person teams and 14 targets/28 arrows.
URL:https://rlrgc.com/calendar/monday-archery-league-mar-9/
END:VEVENT
BEGIN:VEVENT
DTSTART;TZID=America/Chicago:20200310T170000
DTEND;TZID=America/Chicago:20200310T220000
DTSTAMP:20260420T221502
CREATED:20190328T174735Z
LAST-MODIFIED:20190328T174735Z
UID:505-1583859600-1583877600@rlrgc.com
SUMMARY:Tuesday Archery League Mar. 10
DESCRIPTION:League Dates: January 7\, 2020 – March 24\, 2020.\nLeague Time: 5:00pm – 10:00pm. \nFormat: 3D archery\, 2 person teams and 14 targets/28 arrows.
URL:https://rlrgc.com/calendar/tuesday-archery-league-mar-10/
END:VEVENT
BEGIN:VEVENT
DTSTART;TZID=America/Chicago:20200311T170000
DTEND;TZID=America/Chicago:20200311T220000
DTSTAMP:20260420T221502
CREATED:20190328T175705Z
LAST-MODIFIED:20190328T175705Z
UID:529-1583946000-1583964000@rlrgc.com
SUMMARY:Wednesday Archery League Mar. 11
DESCRIPTION:League Dates: January 8\, 2020 – March 25\, 2020.\nLeague Time: 5:00pm – 10:00pm. \nFormat: 3D archery\, 3 person teams and 14 targets/28 arrows.
URL:https://rlrgc.com/calendar/wednesday-archery-league-mar-11/
END:VEVENT
BEGIN:VEVENT
DTSTART;TZID=America/Chicago:20200312T193000
DTEND;TZID=America/Chicago:20200312T213000
DTSTAMP:20260420T221502
CREATED:20191220T022213Z
LAST-MODIFIED:20191220T022213Z
UID:4043-1584041400-1584048600@rlrgc.com
SUMMARY:March 2020 Monthly Club Meeting
DESCRIPTION:March 2020 Monthly Club Meeting
URL:https://rlrgc.com/calendar/march-2020-monthly-club-meeting-2/
END:VEVENT
BEGIN:VEVENT
DTSTART;TZID=America/Chicago:20200314T100000
DTEND;TZID=America/Chicago:20200314T180000
DTSTAMP:20260420T221502
CREATED:20190328T135635Z
LAST-MODIFIED:20190509T145716Z
UID:279-1584180000-1584208800@rlrgc.com
SUMMARY:Deer Classic
DESCRIPTION:A fundraiser to help others enjoy the outdoor adventures of hunting and fishing.
URL:https://rlrgc.com/calendar/deer-classic/
END:VEVENT
BEGIN:VEVENT
DTSTART;TZID=America/Chicago:20200316T170000
DTEND;TZID=America/Chicago:20200316T220000
DTSTAMP:20260420T221502
CREATED:20190328T163106Z
LAST-MODIFIED:20190509T145647Z
UID:481-1584378000-1584396000@rlrgc.com
SUMMARY:Monday Archery League Mar. 16
DESCRIPTION:League Dates: January 6\, 2020 – March 23\, 2020.\nLeague Time: 5:00pm – 10:00pm. \nFormat: 3D archery\, 2 person teams and 14 targets/28 arrows.
URL:https://rlrgc.com/calendar/monday-archery-league-mar-16/
END:VEVENT
BEGIN:VEVENT
DTSTART;TZID=America/Chicago:20200317T170000
DTEND;TZID=America/Chicago:20200317T220000
DTSTAMP:20260420T221502
CREATED:20190328T174823Z
LAST-MODIFIED:20190509T145552Z
UID:507-1584464400-1584482400@rlrgc.com
SUMMARY:Tuesday Archery League Mar. 17
DESCRIPTION:League Dates: January 7\, 2020 – March 24\, 2020.\nLeague Time: 5:00pm – 10:00pm. \nFormat: 3D archery\, 2 person teams and 14 targets/28 arrows.
URL:https://rlrgc.com/calendar/tuesday-archery-league-mar-17/
END:VEVENT
BEGIN:VEVENT
DTSTART;TZID=America/Chicago:20200318T170000
DTEND;TZID=America/Chicago:20200318T220000
DTSTAMP:20260420T221502
CREATED:20190328T175742Z
LAST-MODIFIED:20190509T145521Z
UID:531-1584550800-1584568800@rlrgc.com
SUMMARY:Wednesday Archery League Mar. 18
DESCRIPTION:League Dates: January 8\, 2020 – March 25\, 2020.\nLeague Time: 5:00pm – 10:00pm. \nFormat: 3D archery\, 3 person teams and 14 targets/28 arrows.
URL:https://rlrgc.com/calendar/wednesday-archery-league-mar-18/
END:VEVENT
BEGIN:VEVENT
DTSTART;TZID=America/Chicago:20200323T170000
DTEND;TZID=America/Chicago:20200323T220000
DTSTAMP:20260420T221502
CREATED:20190328T163142Z
LAST-MODIFIED:20190509T145408Z
UID:483-1584982800-1585000800@rlrgc.com
SUMMARY:Monday Archery League Mar. 23
DESCRIPTION:League Dates: January 6\, 2020 – March 23\, 2020.\nLeague Time: 5:00pm – 10:00pm. \nFormat: 3D archery\, 2 person teams and 14 targets/28 arrows.
URL:https://rlrgc.com/calendar/monday-archery-league-mar-23/
END:VEVENT
BEGIN:VEVENT
DTSTART;TZID=America/Chicago:20200324T170000
DTEND;TZID=America/Chicago:20200324T220000
DTSTAMP:20260420T221502
CREATED:20190328T174903Z
LAST-MODIFIED:20190509T145152Z
UID:509-1585069200-1585087200@rlrgc.com
SUMMARY:Tuesday Archery League Mar. 24
DESCRIPTION:League Dates: January 7\, 2020 – March 24\, 2020.\nLeague Time: 5:00pm – 10:00pm. \nFormat: 3D archery\, 2 person teams and 14 targets/28 arrows.
URL:https://rlrgc.com/calendar/tuesday-archery-league-mar-24/
END:VEVENT
BEGIN:VEVENT
DTSTART;TZID=America/Chicago:20200325T170000
DTEND;TZID=America/Chicago:20200325T170000
DTSTAMP:20260420T221502
CREATED:20190328T175812Z
LAST-MODIFIED:20190509T132414Z
UID:533-1585155600-1585155600@rlrgc.com
SUMMARY:Wednesday Archery League Mar. 25
DESCRIPTION:League Dates: January 8\, 2020 – March 25\, 2020.\nLeague Time: 5:00pm – 10:00pm. \nFormat: 3D archery\, 3 person teams and 14 targets/28 arrows.
URL:https://rlrgc.com/calendar/wednesday-archery-league-mar-25/
END:VEVENT
BEGIN:VEVENT
DTSTART;VALUE=DATE:20200329
DTEND;VALUE=DATE:20200330
DTSTAMP:20260420T221502
CREATED:20200122T003342Z
LAST-MODIFIED:20200122T003342Z
UID:4134-1585440000-1585526399@rlrgc.com
SUMMARY:Club Closed (JE) Private Event Mar 29
DESCRIPTION:Club Closed (JE) Private Event Mar 29
URL:https://rlrgc.com/calendar/club-closed-je-private-event-mar-29/
END:VEVENT
END:VCALENDAR