BEGIN:VCALENDAR
VERSION:2.0
PRODID:-//Random Lake Rod &amp; Gun Club - ECPv6.15.9//NONSGML v1.0//EN
CALSCALE:GREGORIAN
METHOD:PUBLISH
X-WR-CALNAME:Random Lake Rod &amp; Gun Club
X-ORIGINAL-URL:https://rlrgc.com
X-WR-CALDESC:Events for Random Lake Rod &amp; Gun Club
REFRESH-INTERVAL;VALUE=DURATION:PT1H
X-Robots-Tag:noindex
X-PUBLISHED-TTL:PT1H
BEGIN:VTIMEZONE
TZID:America/Chicago
BEGIN:DAYLIGHT
TZOFFSETFROM:-0600
TZOFFSETTO:-0500
TZNAME:CDT
DTSTART:20190310T080000
END:DAYLIGHT
BEGIN:STANDARD
TZOFFSETFROM:-0500
TZOFFSETTO:-0600
TZNAME:CST
DTSTART:20191103T070000
END:STANDARD
BEGIN:DAYLIGHT
TZOFFSETFROM:-0600
TZOFFSETTO:-0500
TZNAME:CDT
DTSTART:20200308T080000
END:DAYLIGHT
BEGIN:STANDARD
TZOFFSETFROM:-0500
TZOFFSETTO:-0600
TZNAME:CST
DTSTART:20201101T070000
END:STANDARD
BEGIN:DAYLIGHT
TZOFFSETFROM:-0600
TZOFFSETTO:-0500
TZNAME:CDT
DTSTART:20210314T080000
END:DAYLIGHT
BEGIN:STANDARD
TZOFFSETFROM:-0500
TZOFFSETTO:-0600
TZNAME:CST
DTSTART:20211107T070000
END:STANDARD
END:VTIMEZONE
BEGIN:VEVENT
DTSTART;VALUE=DATE:20200606
DTEND;VALUE=DATE:20200607
DTSTAMP:20260420T174617
CREATED:20200323T181858Z
LAST-MODIFIED:20200323T181858Z
UID:4244-1591401600-1591487999@rlrgc.com
SUMMARY:Club Closed (JS) Private Event June 6\, 2020
DESCRIPTION:Club Closed (JS) Private Event June 6\, 2020
URL:https://rlrgc.com/calendar/club-closed-js-private-event-june-6-2020/
END:VEVENT
BEGIN:VEVENT
DTSTART;TZID=America/Chicago:20200611T193000
DTEND;TZID=America/Chicago:20200611T213000
DTSTAMP:20260420T174617
CREATED:20191220T021949Z
LAST-MODIFIED:20200609T015619Z
UID:4037-1591903800-1591911000@rlrgc.com
SUMMARY:June 2020 Monthly Club Meeting
DESCRIPTION:June 2020 Monthly Club Meeting
URL:https://rlrgc.com/calendar/june-2020-monthly-club-meeting/
END:VEVENT
BEGIN:VEVENT
DTSTART;TZID=America/Chicago:20200614T133000
DTEND;TZID=America/Chicago:20200614T163000
DTSTAMP:20260420T174617
CREATED:20200609T015401Z
LAST-MODIFIED:20200609T015401Z
UID:4336-1592141400-1592152200@rlrgc.com
SUMMARY:Wisconsin Concealed Carry Class
DESCRIPTION:“Wisconsin Concealed Carry Class”\nSunday\, June 14 from 1:30-4:30 at the Random Lake Rod & Gun Club\nThere has been SO much demand for this class\, so I adding another one for our area.\nNon-members 50.00\nAGAG and Rod & Gun Club members get 20% discount\nUse code: Member at checkout\nSpaces will fill up fast\, so reserve your spot now at:\nhttps://www.ilovedip.com/store/p68/Wisconsin_concealed_carry_class.html \nClass will cover:\nSafety\nBasic Self-Defense Principles\nConflict avoidance and alternatives to deadly force\nUse of Force / Deadly Force Law\nConcealed Carry Law / Where you can and cannot carry\nPractical suggestions for safe legal transport and concealed carry\nDemonstration of unloading and loading a handgun\nSpace is limited.\nTo register call Starla 920-747-0288\nNRA CERTIFIED PISTOL INSTRUCTOR – NRA CERTIFIED RANGE OFFICER-REF– USE TO BE VICTIM INSTRUCTOR \n*Class price does not include Wisconsin permit application fee\nDo NOT bring firearms or ammunition into the classroom\nNo live fire required for permit-For Wisconsin Residents only
URL:https://rlrgc.com/calendar/wisconsin-concealed-carry-class/
END:VEVENT
BEGIN:VEVENT
DTSTART;TZID=America/Chicago:20200616T173000
DTEND;TZID=America/Chicago:20200616T210000
DTSTAMP:20260420T174617
CREATED:20200601T222951Z
LAST-MODIFIED:20200601T223131Z
UID:4317-1592328600-1592341200@rlrgc.com
SUMMARY:Ladies Basic Pistol Class June 16 & June 23
DESCRIPTION:Ladies Basic Pistol Class.  June 16 and June 23.  5:30 pm -9:00 pm \nContact Renie 920-254-3119 or Starla 920-747-0288 \nHere is the link to reserve you spot now: https://www.nrainstructors.org/CourseDetails.aspx?Courseid=577908&seats=15&State=n&zip=53004&radius=100.1&id=56&bsa&youth&women=Y — with Renie Raymond Rathke. \n  \n  \n 
URL:https://rlrgc.com/calendar/ladies-basic-pistol-class-june-16-june-23/
END:VEVENT
BEGIN:VEVENT
DTSTART;TZID=America/Chicago:20200617T170000
DTEND;TZID=America/Chicago:20200617T210000
DTSTAMP:20260420T174617
CREATED:20200615T172603Z
LAST-MODIFIED:20200615T172603Z
UID:4343-1592413200-1592427600@rlrgc.com
SUMMARY:Open Shoot / 5pm - 9 pm
DESCRIPTION:Open Shoot / 5pm – 9 pm
URL:https://rlrgc.com/calendar/open-shoot-5pm-9-pm/
END:VEVENT
BEGIN:VEVENT
DTSTART;VALUE=DATE:20200620
DTEND;VALUE=DATE:20200621
DTSTAMP:20260420T174617
CREATED:20200122T004722Z
LAST-MODIFIED:20200122T004722Z
UID:4147-1592611200-1592697599@rlrgc.com
SUMMARY:Club Closed (TW) Private Member Event June 20
DESCRIPTION:Club Closed (TW) Private Member Event June 20
URL:https://rlrgc.com/calendar/club-closed-tw-private-member-event-june-20/
END:VEVENT
BEGIN:VEVENT
DTSTART;TZID=America/Chicago:20200622T180000
DTEND;TZID=America/Chicago:20200622T190000
DTSTAMP:20260420T174617
CREATED:20200601T172149Z
LAST-MODIFIED:20200601T172149Z
UID:4257-1592848800-1592852400@rlrgc.com
SUMMARY:Refuse To Be A Victim Crime Prevention: College & High School
DESCRIPTION:Refuse To Be A Victim Crime Prevention: College & High School – June 22 6:00 pm – 7:30 pm – Hosted by Starla\,  Event also listed on Facebook. \n  \n 
URL:https://rlrgc.com/calendar/refuse-to-be-a-victim-crime-prevention-college-high-school/
END:VEVENT
BEGIN:VEVENT
DTSTART;TZID=America/Chicago:20200623T173000
DTEND;TZID=America/Chicago:20200623T210000
DTSTAMP:20260420T174617
CREATED:20200601T223210Z
LAST-MODIFIED:20200601T223210Z
UID:4321-1592933400-1592946000@rlrgc.com
SUMMARY:Ladies Basic Pistol Class June 16 & June 23
DESCRIPTION:
URL:https://rlrgc.com/calendar/ladies-basic-pistol-class-june-16-june-23-2/
END:VEVENT
BEGIN:VEVENT
DTSTART;TZID=America/Chicago:20200624T170000
DTEND;TZID=America/Chicago:20200624T210000
DTSTAMP:20260420T174617
CREATED:20200615T172640Z
LAST-MODIFIED:20200615T172640Z
UID:4346-1593018000-1593032400@rlrgc.com
SUMMARY:Open Shoot / 5pm - 9 pm
DESCRIPTION:Open Shoot / 5pm – 9 pm
URL:https://rlrgc.com/calendar/open-shoot-5pm-9-pm-2/
END:VEVENT
BEGIN:VEVENT
DTSTART;TZID=America/Chicago:20200625T170000
DTEND;TZID=America/Chicago:20200625T220000
DTSTAMP:20260420T174617
CREATED:20200601T172729Z
LAST-MODIFIED:20200601T173802Z
UID:4260-1593104400-1593122400@rlrgc.com
SUMMARY:2020 Summer Trap League: Wk 1
DESCRIPTION:2020 Summer Trap League: Starts June 25 – 9 Weeks – August 20 League Ends \nContact Jeff Bares with any questions 262-424-4859 \n 
URL:https://rlrgc.com/calendar/2020-summer-trap-league-wk-1/
END:VEVENT
BEGIN:VEVENT
DTSTART;TZID=America/Chicago:20200630T163000
DTEND;TZID=America/Chicago:20200630T210000
DTSTAMP:20260420T174617
CREATED:20200615T173440Z
LAST-MODIFIED:20200615T173440Z
UID:4373-1593534600-1593550800@rlrgc.com
SUMMARY:Traveling League 4:30pm - 9:00pm
DESCRIPTION:Traveling League 4:30pm – 9:00pm
URL:https://rlrgc.com/calendar/traveling-league-430pm-900pm/
END:VEVENT
END:VCALENDAR