BEGIN:VCALENDAR
VERSION:2.0
PRODID:-//Random Lake Rod &amp; Gun Club - ECPv6.15.9//NONSGML v1.0//EN
CALSCALE:GREGORIAN
METHOD:PUBLISH
X-ORIGINAL-URL:https://rlrgc.com
X-WR-CALDESC:Events for Random Lake Rod &amp; Gun Club
REFRESH-INTERVAL;VALUE=DURATION:PT1H
X-Robots-Tag:noindex
X-PUBLISHED-TTL:PT1H
BEGIN:VTIMEZONE
TZID:America/Chicago
BEGIN:DAYLIGHT
TZOFFSETFROM:-0600
TZOFFSETTO:-0500
TZNAME:CDT
DTSTART:20200308T080000
END:DAYLIGHT
BEGIN:STANDARD
TZOFFSETFROM:-0500
TZOFFSETTO:-0600
TZNAME:CST
DTSTART:20201101T070000
END:STANDARD
BEGIN:DAYLIGHT
TZOFFSETFROM:-0600
TZOFFSETTO:-0500
TZNAME:CDT
DTSTART:20210314T080000
END:DAYLIGHT
BEGIN:STANDARD
TZOFFSETFROM:-0500
TZOFFSETTO:-0600
TZNAME:CST
DTSTART:20211107T070000
END:STANDARD
BEGIN:DAYLIGHT
TZOFFSETFROM:-0600
TZOFFSETTO:-0500
TZNAME:CDT
DTSTART:20220313T080000
END:DAYLIGHT
BEGIN:STANDARD
TZOFFSETFROM:-0500
TZOFFSETTO:-0600
TZNAME:CST
DTSTART:20221106T070000
END:STANDARD
END:VTIMEZONE
BEGIN:VEVENT
DTSTART;TZID=America/Chicago:20210501T090000
DTEND;TZID=America/Chicago:20210501T150000
DTSTAMP:20260420T023903
CREATED:20210119T183902Z
LAST-MODIFIED:20210119T183902Z
UID:4690-1619859600-1619881200@rlrgc.com
SUMMARY:50 Bird Lewis Shoot - May 1
DESCRIPTION:50 Bird Lewis Shoot – May 1 \nRegistration: 9:00am – 2:45pm. \nAll targets are shot from 16-yard line.
URL:https://rlrgc.com/calendar/50-bird-lewis-shoot-may-1/
END:VEVENT
BEGIN:VEVENT
DTSTART;TZID=America/Chicago:20210506T153000
DTEND;TZID=America/Chicago:20210506T220000
DTSTAMP:20260420T023903
CREATED:20210316T012101Z
LAST-MODIFIED:20210316T012917Z
UID:4792-1620315000-1620338400@rlrgc.com
SUMMARY:RL School Trap
DESCRIPTION:RL School Trap
URL:https://rlrgc.com/calendar/rl-school-trap-3/
END:VEVENT
BEGIN:VEVENT
DTSTART;TZID=America/Chicago:20210513T193000
DTEND;TZID=America/Chicago:20210513T213000
DTSTAMP:20260420T023903
CREATED:20200323T180620Z
LAST-MODIFIED:20200323T181423Z
UID:4226-1620934200-1620941400@rlrgc.com
SUMMARY:May 2021 Monthly Club Meeting
DESCRIPTION:May 2021 Monthly Club Meeting
URL:https://rlrgc.com/calendar/may-2021-monthly-club-meeting/
END:VEVENT
BEGIN:VEVENT
DTSTART;TZID=America/Chicago:20210518T180000
DTEND;TZID=America/Chicago:20210518T203000
DTSTAMP:20260420T023903
CREATED:20210322T223728Z
LAST-MODIFIED:20210322T223728Z
UID:4881-1621360800-1621369800@rlrgc.com
SUMMARY:Concealed Carry Mindset - Tuesday\, May 18 6:00pm - 8:30pm
DESCRIPTION:Tuesday\, May 18:  Concealed Carry Mindset  6-8:30 PM \n\nMany women come into gun ownership with the primary purpose of protecting themselves. \nWe welcome you to the mindset of becoming your own first responder by carrying a handgun and taking charge of your personal safety and the safety of your loved ones.\n-Conceal carry options (holsters\, belly-bands\, purses..) will be available to try.\n-We will discuss the steps to take to conceal carry\, the mindset & lifestyle.\n-We will also practice drawing from concealment.\nDO NOT BRING AMMO to this class!\nThis class is not sufficient to apply for your concealed carry permit.\nCost: AGAG members 10.00 Non members 20.00\nLocation: Random Lake Rod & Gun Club\nSpace is limited\nPlease review the available slots below and click on the button to sign up. Thank you!\nhttps://www.signupgenius.
URL:https://rlrgc.com/calendar/concealed-carry-mindset-tuesday-may-18-600pm-830pm/
END:VEVENT
BEGIN:VEVENT
DTSTART;TZID=America/Chicago:20210525T170000
DTEND;TZID=America/Chicago:20210525T220000
DTSTAMP:20260420T023903
CREATED:20210430T011825Z
LAST-MODIFIED:20210430T011825Z
UID:4980-1621962000-1621980000@rlrgc.com
SUMMARY:Tuesday Summer Trap League Starts
DESCRIPTION:
URL:https://rlrgc.com/calendar/tuesday-summer-trap-league-starts/
END:VEVENT
BEGIN:VEVENT
DTSTART;TZID=America/Chicago:20210529T080000
DTEND;TZID=America/Chicago:20210529T170000
DTSTAMP:20260420T023903
CREATED:20210316T015117Z
LAST-MODIFIED:20210316T015117Z
UID:4816-1622275200-1622307600@rlrgc.com
SUMMARY:Club Closed (DM) Private Event May 29
DESCRIPTION:Club Closed (DM) Private Event May 29
URL:https://rlrgc.com/calendar/club-closed-dm-private-event-may-29/
END:VEVENT
BEGIN:VEVENT
DTSTART;TZID=America/Chicago:20210530T090000
DTEND;TZID=America/Chicago:20210530T150000
DTSTAMP:20260420T023903
CREATED:20210119T183955Z
LAST-MODIFIED:20210119T183955Z
UID:4693-1622365200-1622386800@rlrgc.com
SUMMARY:50 Bird Lewis Shoot - May 30
DESCRIPTION:50 Bird Lewis Shoot – May 30 \nRegistration: 9:00am – 2:45pm. \nAll targets are shot from 16-yard line. \n 
URL:https://rlrgc.com/calendar/50-bird-lewis-shoot-may-30/
END:VEVENT
END:VCALENDAR