BEGIN:VCALENDAR
VERSION:2.0
PRODID:-//Random Lake Rod &amp; Gun Club - ECPv6.15.9//NONSGML v1.0//EN
CALSCALE:GREGORIAN
METHOD:PUBLISH
X-WR-CALNAME:Random Lake Rod &amp; Gun Club
X-ORIGINAL-URL:https://rlrgc.com
X-WR-CALDESC:Events for Random Lake Rod &amp; Gun Club
REFRESH-INTERVAL;VALUE=DURATION:PT1H
X-Robots-Tag:noindex
X-PUBLISHED-TTL:PT1H
BEGIN:VTIMEZONE
TZID:America/Chicago
BEGIN:DAYLIGHT
TZOFFSETFROM:-0600
TZOFFSETTO:-0500
TZNAME:CDT
DTSTART:20210314T080000
END:DAYLIGHT
BEGIN:STANDARD
TZOFFSETFROM:-0500
TZOFFSETTO:-0600
TZNAME:CST
DTSTART:20211107T070000
END:STANDARD
BEGIN:DAYLIGHT
TZOFFSETFROM:-0600
TZOFFSETTO:-0500
TZNAME:CDT
DTSTART:20220313T080000
END:DAYLIGHT
BEGIN:STANDARD
TZOFFSETFROM:-0500
TZOFFSETTO:-0600
TZNAME:CST
DTSTART:20221106T070000
END:STANDARD
BEGIN:DAYLIGHT
TZOFFSETFROM:-0600
TZOFFSETTO:-0500
TZNAME:CDT
DTSTART:20230312T080000
END:DAYLIGHT
BEGIN:STANDARD
TZOFFSETFROM:-0500
TZOFFSETTO:-0600
TZNAME:CST
DTSTART:20231105T070000
END:STANDARD
END:VTIMEZONE
BEGIN:VEVENT
DTSTART;VALUE=DATE:20220501
DTEND;VALUE=DATE:20220502
DTSTAMP:20260419T091819
CREATED:20220311T225242Z
LAST-MODIFIED:20220311T225443Z
UID:5520-1651363200-1651449599@rlrgc.com
SUMMARY:Club Closed (LV) Private Member Event - May 1\, 2022
DESCRIPTION:
URL:https://rlrgc.com/calendar/random-lake-rod-gun-club-75-target-lewis-shoot-august-21-2022/
END:VEVENT
BEGIN:VEVENT
DTSTART;VALUE=DATE:20220507
DTEND;VALUE=DATE:20220508
DTSTAMP:20260419T091819
CREATED:20220311T223109Z
LAST-MODIFIED:20220311T224841Z
UID:5496-1651881600-1651967999@rlrgc.com
SUMMARY:RL High School Trap- May 7\, 2022
DESCRIPTION:RL High School Trap- May 7\, 2022
URL:https://rlrgc.com/calendar/rl-high-school-trap-may-7-2022/
END:VEVENT
BEGIN:VEVENT
DTSTART;VALUE=DATE:20220508
DTEND;VALUE=DATE:20220509
DTSTAMP:20260419T091819
CREATED:20220311T224955Z
LAST-MODIFIED:20220311T225034Z
UID:5516-1651968000-1652054399@rlrgc.com
SUMMARY:Random Lake Rod & Gun Club 50 Target Lewis Shoot - May 8\, 2022
DESCRIPTION:
URL:https://rlrgc.com/calendar/random-lake-rod-gun-club-50-target-lewis-shoot-may-1-2022/
END:VEVENT
BEGIN:VEVENT
DTSTART;TZID=America/Chicago:20220512T193000
DTEND;TZID=America/Chicago:20220512T213000
DTSTAMP:20260419T091819
CREATED:20210823T183136Z
LAST-MODIFIED:20210823T183136Z
UID:5101-1652383800-1652391000@rlrgc.com
SUMMARY:May 2022 Monthly Club Meeting
DESCRIPTION:May 2022 Monthly Club Meeting @ 7:30 pm
URL:https://rlrgc.com/calendar/may-2022-monthly-club-meeting/
END:VEVENT
BEGIN:VEVENT
DTSTART;VALUE=DATE:20220516
DTEND;VALUE=DATE:20220517
DTSTAMP:20260419T091819
CREATED:20211228T020050Z
LAST-MODIFIED:20211228T020050Z
UID:5381-1652659200-1652745599@rlrgc.com
SUMMARY:RL Garden Club / Club Closed
DESCRIPTION:RL Garden Club / Club Closed
URL:https://rlrgc.com/calendar/rl-garden-club-club-closed-2/
END:VEVENT
BEGIN:VEVENT
DTSTART;VALUE=DATE:20220516
DTEND;VALUE=DATE:20220517
DTSTAMP:20260419T091819
CREATED:20211228T020114Z
LAST-MODIFIED:20211228T020114Z
UID:5384-1652659200-1652745599@rlrgc.com
SUMMARY:RL Garden Club / Club Closed
DESCRIPTION:RL Garden Club / Club Closed
URL:https://rlrgc.com/calendar/rl-garden-club-club-closed-3/
END:VEVENT
BEGIN:VEVENT
DTSTART;VALUE=DATE:20220521
DTEND;VALUE=DATE:20220522
DTSTAMP:20260419T091819
CREATED:20220311T224324Z
LAST-MODIFIED:20220311T224444Z
UID:5506-1653091200-1653177599@rlrgc.com
SUMMARY:Random Lake Rod & Gun Club 50 Target Lewis Shoot - May 21\, 2022
DESCRIPTION:
URL:https://rlrgc.com/calendar/random-lake-rod-gun-club-50-target-lewis-shoot-may-8-2022/
END:VEVENT
BEGIN:VEVENT
DTSTART;VALUE=DATE:20220522
DTEND;VALUE=DATE:20220523
DTSTAMP:20260419T091819
CREATED:20220311T225552Z
LAST-MODIFIED:20220311T225552Z
UID:5526-1653177600-1653263999@rlrgc.com
SUMMARY:Club Closed (DB) Private Member Event - May 22\, 2022
DESCRIPTION:
URL:https://rlrgc.com/calendar/club-closed-db-private-member-event-may-22-2022/
END:VEVENT
END:VCALENDAR